BEGIN:VCALENDAR
PRODID:NingEventWidget-v1
VERSION:2.0
METHOD:PUBLISH
BEGIN:VTIMEZONE
TZID:America/Anguilla
X-LIC-LOCATION:America/Anguilla
BEGIN:STANDARD
TZOFFSETFROM:-0400
TZOFFSETTO:-0400
TZNAME:AST
DTSTART:19700101T000000
END:STANDARD
END:VTIMEZONE
BEGIN:VEVENT
UID:2024711:Event:83246
DTSTAMP:20260421T123509Z
SUMMARY:World Water Day
DESCRIPTION:Happy World Water Day <3  Celebrate by Singing to the Wat
 er and raise the vibration <3 Where ever you are in the World <3 Hon
 our the precious gift of Water <3 Water is Life <3 We must protect it!
 \r\n\r\n\n\nFor more information visit https://fixourworld.ca/events/w
 orld-water-day
DTSTART;TZID=America/Anguilla:20190322T000000
DTEND;TZID=America/Anguilla:20190322T235900
CATEGORIES:sing, to, the, water, and, raise, vibration
LOCATION:Water
WEBSITE:
URL:
CONTACT:
ORGANIZER;CN=FixOurWorld:https://fixourworld.ca/profile/Chad
ATTACH;FMTTYPE="image/jpeg":https://storage.ning.com/topology/rest/1.0
 /file/get/1567314756?profile=original
ATTENDEE;ROLE=REQ-PARTICIPANT;PARTSTAT=ACCEPTED;RSVP=TRUE;CN=FixOurWor
 ld:https://fixourworld.ca/profile/Chad
END:VEVENT
END:VCALENDAR
