BEGIN:VCALENDAR
PRODID:NingEventWidget-v1
VERSION:2.0
METHOD:PUBLISH
BEGIN:VTIMEZONE
TZID:America/Anguilla
X-LIC-LOCATION:America/Anguilla
BEGIN:STANDARD
TZOFFSETFROM:-0400
TZOFFSETTO:-0400
TZNAME:AST
DTSTART:19700101T000000
END:STANDARD
END:VTIMEZONE
BEGIN:VEVENT
UID:2024711:Event:68866
DTSTAMP:20260421T185527Z
SUMMARY:To Light A Candle International Film Screening
DESCRIPTION:Please Share\nDearest friends,\nKindly help us to invite o
 thers. Attached is the poster. I have put Therese's helpful directions
  on the facebook page.\nHere is the facebook page: https://www.facebo
 ok.com/events/1598395283712372/?ref_dashboard_filter=upcoming\nHere is
  the website: https://mcmasterbahais.wordpress.com/\nWith much love,\
 nAlicia\nFRIDAY, FEB 27 6:30PM\nThis documentary is being shown all Gl
 obally on February 27. We are fortunate enough to be able to host such
  a powerful event at McMaster University MDCL room 1309\n“The Baha
 is are a religious minority in Iran. They are systematically imprison
 ed, tortured and killed by the Iranian government. The Islamic regime 
 bans the Baha’is to study or teach in Iranian universities.\nBut the
  Baha’is DO teach, and they DO study.\nSince 1987 the Baha’is star
 ted BIHE, an underground university with hundreds of students in Iran,
  and dozens of teachers in Iran and world. Through powerful interviews
 , exclusive secret footage shot by citizen journalists, rare archival 
 material and dramatic letters written by a Baha’i prisoners currentl
 y in jail in Iran, To Light a Candle shows how a small minority has de
 fied the brutal systematic religious persecution through non-violent r
 esistance and educating their youth.”\n#EDUCATIONISNOTACRIME\nTo Lig
 ht a Candle\"? It is a screening of the film about the persecution of 
 Baha'is in Iran. We will also include local musicians, most likely Nan
 cy Campbell Dancers, local dignitaries, and many creative projects to 
 raise awareness. We have invited 600 already from campus and it will b
 e held on campus. This same film is being screened on this same date i
 n towns ALL ACROSS THE PLANET. It is an international screening so we 
 are uniting across the seas! We are also so blessed in Hamilton that D
 r Jabbari can share a few words. She is a retired physician from here 
 in Hamilton whose own father was executed due to the persecution. His 
 body is featured in the film.\nYou can see more information about the 
 event here:\nhttps://mcmasterbahais.wordpress.com/\n\nFor more informa
 tion visit https://fixourworld.ca/events/to-light-a-candle-internation
 al-film-screening
DTSTART;TZID=America/Anguilla:20150227T183000
DTEND;TZID=America/Anguilla:20150227T200000
CATEGORIES:internattional, film, screening, on, feb, 27
LOCATION:Globally (In Hamilton at McMaster University) MDCL room 1309
WEBSITE:
URL:
CONTACT:
ORGANIZER:Campus Association for Baha'i Studies
ATTACH;FMTTYPE="image/jpeg":http://storage.ning.com/topology/rest/1.0/
 file/get/2819577106?profile=original
ATTENDEE;ROLE=REQ-PARTICIPANT;PARTSTAT=ACCEPTED;RSVP=TRUE;CN=FixOurWor
 ld:https://fixourworld.ca/profile/Chad
END:VEVENT
END:VCALENDAR
