BEGIN:VCALENDAR
PRODID:NingEventWidget-v1
VERSION:2.0
METHOD:PUBLISH
BEGIN:VTIMEZONE
TZID:America/Anguilla
X-LIC-LOCATION:America/Anguilla
BEGIN:STANDARD
TZOFFSETFROM:-0400
TZOFFSETTO:-0400
TZNAME:AST
DTSTART:19700101T000000
END:STANDARD
END:VTIMEZONE
BEGIN:VEVENT
UID:2024711:Event:28317
DTSTAMP:20260425T123003Z
SUMMARY:The People Vs US Steel
DESCRIPTION:United Steelworkers Local 1005, the Hamilton and District 
 Labour Council, the Ontario Federation of Labour and the Canadian Labo
 ur Congress have invited everyone to a Hamilton Day of Action on Janua
 ry 29 to denounce the arrogance of the global monopolies and their ass
 ault on people's rights and wrecking of the economy and countryhttp://
 www.uswa1005.ca/index.php\n\nFor more information visit https://fixour
 world.ca/events/the-people-vs-us-steel
DTSTART;TZID=America/Anguilla:20110129T130000
DTEND;TZID=America/Anguilla:20110129T150000
CATEGORIES:rally, "&", march
LOCATION:Hamilton City Hall
WEBSITE:
URL:
CONTACT:905-547-1417
ORGANIZER;CN="john pittman":https://fixourworld.ca/profile/johnpittman
ATTACH;FMTTYPE="image/jpeg":
ATTENDEE;ROLE=REQ-PARTICIPANT;PARTSTAT=ACCEPTED;RSVP=TRUE;CN="john pit
 tman":https://fixourworld.ca/profile/johnpittman
END:VEVENT
END:VCALENDAR
