BEGIN:VCALENDAR
PRODID:NingEventWidget-v1
VERSION:2.0
METHOD:PUBLISH
BEGIN:VTIMEZONE
TZID:America/Anguilla
X-LIC-LOCATION:America/Anguilla
BEGIN:STANDARD
TZOFFSETFROM:-0400
TZOFFSETTO:-0400
TZNAME:AST
DTSTART:19700101T000000
END:STANDARD
END:VTIMEZONE
BEGIN:VEVENT
UID:2024711:Event:10702
DTSTAMP:20260421T214701Z
SUMMARY:The Old Powerhouse Singer/Songwriter Competition
DESCRIPTION:Welcome to the 1st Annual Singer/Songwriter Competition at
  The Old Powerhouse!\n\nMy name is Malachi Greenidge and I am your hos
 t and coordinator. All questions and inquiries should be made out to m
 e personally via email at: malachigreenidge@hotmail.com\n\n\nDETAILS:\
 nThis competition starts on Wednesday June 17th, 2009 at 8pm and runs 
 each wednesday following for a total of 13 weeks.\n\nThere will be 10 
 musical artists each night over a 10 week period. A panel of Industry 
 judges will choose the top 2 artists from each night to move on to the
  semi-finals to be held weeks 11 & 12, for a total of 20 semi-finalist
 s. Five artists will be chosen from both weeks 11 & 12 (Wed, Aug 26th;
  Wed, Sept 2nd) to move on to the finals on week 13 (Wed, Sept 9th) fo
 r a total of 10 finalists. The judges will then choose 1st, 2nd, & 3rd
  place grand prize!\n\nRULES & REGULATIONS\n- ALL participants must be
  14 years of age or older\n- This is open to solo or duo UNSIGNED acts
  only, NO BANDS\n- all songs performed MUST be the artists' own origin
 al work (NO COVERS)\n- each participant may enter a maximum of 3 songs
 , songs may be both instrumental & vocal, instrumental only or vocal o
 nly\n- artists may use any number and/or type of instruments for their
  performance except for the following:\n: drum kits are NOT permitted 
 due to time constraints, but other forms of percussion are allowed, su
 ch as (but not limited to) bongos, djembe, cajone, shakers, etc.\n: pr
 e-programmed computer/drum loops are NOT permitted, although you may u
 se a loop pedal if you would like to simulate different arrangements l
 ive on stage\n\nREGISTRATION\n\nFor more information visit https://fix
 ourworld.ca/events/the-old-powerhouse
DTSTART;TZID=America/Anguilla:20090617T200000
DTEND;TZID=America/Anguilla:20090909T010000
CATEGORIES:"singer/songwriter", competition
LOCATION:The Old Powerhouse
WEBSITE:http://malachigreenidge@hotmail.com
URL:http://malachigreenidge@hotmail.com
CONTACT:905.664.5900
ORGANIZER:Malachi Greenidge
ATTACH;FMTTYPE="image/jpeg":http://storage.ning.com/topology/rest/1.0/
 file/get/2819571385?profile=original
ATTENDEE;ROLE=REQ-PARTICIPANT;PARTSTAT=ACCEPTED;RSVP=TRUE;CN="Robert S
 cott Enfield":https://fixourworld.ca/profile/Dedyet
ATTENDEE;ROLE=REQ-PARTICIPANT;PARTSTAT=ACCEPTED;RSVP=TRUE;CN=FixOurWor
 ld:https://fixourworld.ca/profile/Chad
ATTENDEE;ROLE=REQ-PARTICIPANT;PARTSTAT=TENTATIVE;RSVP=TRUE;CN="Joseph 
 St. George":https://fixourworld.ca/profile/JosephStGeorge
ATTENDEE;ROLE=REQ-PARTICIPANT;PARTSTAT=TENTATIVE;RSVP=TRUE;CN="Ariel R
 ogers":https://fixourworld.ca/profile/ArielRogers
END:VEVENT
END:VCALENDAR
