BEGIN:VCALENDAR
PRODID:NingEventWidget-v1
VERSION:2.0
METHOD:PUBLISH
BEGIN:VTIMEZONE
TZID:America/Anguilla
X-LIC-LOCATION:America/Anguilla
BEGIN:STANDARD
TZOFFSETFROM:-0400
TZOFFSETTO:-0400
TZNAME:AST
DTSTART:19700101T000000
END:STANDARD
END:VTIMEZONE
BEGIN:VEVENT
UID:2024711:Event:23666
DTSTAMP:20260425T120621Z
SUMMARY:The Mad Hatter's Costume Ball
DESCRIPTION:A community building event. Dance party where families can
  interact with the Red Queen, the Mad Hatter, and a host of other inte
 resting guests!\n\nChildren $15\nAdults $20\nFamilies (up to six) $53\
 nwww.pemevents.ca\n\nFor more information visit https://fixourworld.ca
 /events/the-mad-hatters-costume-ball
DTSTART;TZID=America/Anguilla:20121031T140000
DTEND;TZID=America/Anguilla:20121031T170000
CATEGORIES:halloween, party
LOCATION:The Art Gallery of Hamilton
WEBSITE:
URL:
CONTACT:905 573 6641
ORGANIZER:Catharine
ATTACH;FMTTYPE="image/jpeg":http://storage.ning.com/topology/rest/1.0/
 file/get/2819572432?profile=original
ATTENDEE;ROLE=REQ-PARTICIPANT;PARTSTAT=ACCEPTED;RSVP=TRUE;CN=Cat:https
 ://fixourworld.ca/profile/Cat
END:VEVENT
END:VCALENDAR
