BEGIN:VCALENDAR
PRODID:NingEventWidget-v1
VERSION:2.0
METHOD:PUBLISH
BEGIN:VTIMEZONE
TZID:America/Anguilla
X-LIC-LOCATION:America/Anguilla
BEGIN:STANDARD
TZOFFSETFROM:-0400
TZOFFSETTO:-0400
TZNAME:AST
DTSTART:19700101T000000
END:STANDARD
END:VTIMEZONE
BEGIN:VEVENT
UID:2024711:Event:50440
DTSTAMP:20260421T200533Z
SUMMARY:The Global Peace Wave 1440
DESCRIPTION:90 Days-to Establish a Habit! I challenge Everyone <3 Peac
 e Be With You Always <3 Add your tips, ideas, things you do to make a 
 difference <3 fixourworld.ning.com <3 Join our Global Family <3 \nThe
  Global Peace Wave 1440\nThank you all for signing up for the Global P
 eace Wave. We have people from almost every time zone and countries si
 gned up! almost 3000 people! Tomorrow May 20th is a very important ene
 rgetic day- a solar eclipse and the new moon. This day...The Global Pe
 ace Wave 1440\n\nThank you everyone for participating on May 20th in t
 he Global Peace Wave. I felt a warm global embrace and it was truly am
 azing! I want to remind everyone that the Global Peace Wave is a year 
 long daily event, we will try and keep the peace vibrations high all y
 ear long thus transcending the war paradigm. So we need everyone’s c
 ontinued commitment and support. The wave is still growing so pleaseco
 ntinue to invite your friends and spread the word; share the video and
  the web site. I will be starting a group here on face book and a foru
 m on the web site so we can share and discuss our progress. Again we m
 ust be persistent in our efforts for daily peace.  In cosmic gratitud
 e for all your good work. Abundant Peace and blessings upon you! Namas
 te~ Annette www.globalpeacewave.com http://www.facebook.com/globalpeac
 ewave http://www.facebook.com/events/231353850306346/ http://youtu.be/
 gSTJbgTvZOo\n\n\n\n\n\n\n\nThe Global Peace Wave is being launched pla
 net-wide to serve humanity’s evolving consciousness.www.globalpeacew
 ave.com\n\n\n\n\n\n\n\n\n\n\nFor more information visit https://fixour
 world.ca/events/the-global-peace-wave-1440
DTSTART;TZID=America/Anguilla:20120523T000000
DTEND;TZID=America/Anguilla:20120820T235900
CATEGORIES:global, peace, wave
LOCATION:Global
WEBSITE:
URL:
CONTACT:
ORGANIZER:.www.globalpeacewave.com
ATTACH;FMTTYPE="image/jpeg":http://storage.ning.com/topology/rest/1.0/
 file/get/2819574927?profile=original
ATTENDEE;ROLE=REQ-PARTICIPANT;PARTSTAT=ACCEPTED;RSVP=TRUE;CN=FixOurWor
 ld:https://fixourworld.ca/profile/Chad
END:VEVENT
END:VCALENDAR
