BEGIN:VCALENDAR
PRODID:NingEventWidget-v1
VERSION:2.0
METHOD:PUBLISH
BEGIN:VTIMEZONE
TZID:America/Anguilla
X-LIC-LOCATION:America/Anguilla
BEGIN:STANDARD
TZOFFSETFROM:-0400
TZOFFSETTO:-0400
TZNAME:AST
DTSTART:19700101T000000
END:STANDARD
END:VTIMEZONE
BEGIN:VEVENT
UID:2024711:Event:48348
DTSTAMP:20260422T143738Z
SUMMARY:The Formation of the Niagara Escarpment
DESCRIPTION:Hi Directors, VolunteersÂ and Special Friends:\nÂ \nÂ Â Â 
  Â Â Â  Â Â Â  Our 4th Bruce Duncan Memorial Lecture of the season pro
 mises to be exceptional. Nick Eyles, Professor of Geology at the Unive
 rsity of Toronto will speak to us about the Formation of the Niagara E
 scarpment.\nÂ Â Â Â \nÂ Â Â Â Â Â Â  Nick is a world renowned geologis
 t especially noted for his prime research in glacial sedimentology.\nB
 eyond his many publications he has been an advisor and participant wit
 h CBC's popular series 'Geologic Journey' and has acted as host ofÂ 'G
 eological Journey of the World',Â a five part 'Nature of Things' serie
 s with David Suzuki.\nÂ \nÂ Â Â Â Â Â Â Â Â Â Â  Nick is very supporti
 ve of the efforts the Giant's Rib is making to increase the awareness 
 of the need to protect the Niagara Escarpment. I am certain that you w
 ill enjoy his presentation and to have the opportunity to meet and spe
 ak with him personally.\nÂ \nSite - Hamilton Waterfront Trust Discover
 y Centre\nDate - Â Sunday , January 22, 2012,Â Â Â Â Â Â Â Â Â Â Â Â Â
  Â Â Â Â Â Â Â Â Â Â Â Â Â Â Â Â Â Â Â Â Â Â Â Â Â Â Â Â Â Â Â Â Â Â Â
  Â Â Â Â Â Â Â Â Â Â Â Â Â Â Â Â Â Â Â Â Â Â Â Â Â Â Â Â Â Â Â Â Â Â Â
  Â Â Â Â Â Â Â Â Â Â Â Â Â Â Â Â Â Â Â Â Â Â Â Â Â Â Â Â Â Â Â Â Â Â Â
  Â Â Â Â Â Â Â Â Â Â Â Â Â Â Â Â Â Â Â Â Â Â Â Â Â Â Â Â Â Â  Time 2:0
 0 p.m.to 3:00Â p.m.\nRefreshments to follow.\nÂ \nSee you there.\n\nFo
 r more information visit https://fixourworld.ca/events/the-formation-o
 f-the-niagara-escarpment
DTSTART;TZID=America/Anguilla:20120115T180000
DTEND;TZID=America/Anguilla:20120115T190000
CATEGORIES:lecture
LOCATION:Discovery Centre
WEBSITE:http://www.giantsrib.ca/GRDCnewletters/2012/2012.01.GiantsRib.
 January.pdf
URL:http://www.giantsrib.ca/GRDCnewletters/2012/2012.01.GiantsRib.Janu
 ary.pdf
CONTACT:
ORGANIZER:Giants Rib
ATTACH;FMTTYPE="image/jpeg":
ATTENDEE;ROLE=REQ-PARTICIPANT;PARTSTAT=TENTATIVE;RSVP=TRUE;CN="Wayne T
 erryberry":https://fixourworld.ca/profile/WayneTerryberry
END:VEVENT
END:VCALENDAR
