BEGIN:VCALENDAR
PRODID:NingEventWidget-v1
VERSION:2.0
METHOD:PUBLISH
BEGIN:VTIMEZONE
TZID:America/Anguilla
X-LIC-LOCATION:America/Anguilla
BEGIN:STANDARD
TZOFFSETFROM:-0400
TZOFFSETTO:-0400
TZNAME:AST
DTSTART:19700101T000000
END:STANDARD
END:VTIMEZONE
BEGIN:VEVENT
UID:2024711:Event:20782
DTSTAMP:20260421T170907Z
SUMMARY:The Fix Our World Show Online!
DESCRIPTION:The Fix Our World Show\nEvery 2nd Friday Starting April 16
 \n\nHost: Linda Lannigan\nMary Jane Oates\n\nWe will be Interviewing o
 ur special guests in studio and online who are making a difference.\n\
 nWe want to know What's happening in our own backyards how to be bette
 r Global Citizens, and what we can do to become part of the solution.\
 n\nEducating and inspiring others, promoting upcoming events, musical 
 guests, featured artist, games, challenges.\n\nA Chef will be preparin
 g a Vegan meal for our studio audience and teaching our online guests 
 how to make simple affordable delicious healthy meals.\n.\nJune 11, 20
 10\nVideo Streaming Live on 100steps.ca, fixourworld.ning.ca others tb
 a\n\nChef:\nBobby Hebert, Don LaChance\n\nGuests-Skype:\nPeoples Summi
 t Mobilization Committee\n\nIn House Guests\nMelanie Skene-Many Hands 
 Art Group melanie@manyhandsart.org\nDan Medakovic- Solar Panels\nCody 
 Lanktree Hamilton Seen\n\nMusician - Dan Medakovic\n\nTo be a Guest, F
 eatured Musician, Featured Artist, Chef on our show or to be a guest i
 n our studio audience contact:\nllannigan@gmail.com\n905.518.1308\n\nS
 ponsored By: 100Steps.ca , BIZCLIP Your Global Online Provider\n\nFor 
 more information visit https://fixourworld.ca/events/the-fix-our-world
 -show-online
DTSTART;TZID=America/Anguilla:20100611T180000
DTEND;TZID=America/Anguilla:20100611T190000
CATEGORIES:online, show, raising, awareness, educating
LOCATION:100 Steps Studio
WEBSITE:
URL:
CONTACT:905.518.1308 905 540 3804
ORGANIZER;CN=FixOurWorld:https://fixourworld.ca/profile/Chad
ATTACH;FMTTYPE="image/jpeg":http://storage.ning.com/topology/rest/1.0/
 file/get/2819572077?profile=original
ATTENDEE;ROLE=REQ-PARTICIPANT;PARTSTAT=ACCEPTED;RSVP=TRUE;CN=GreenSubl
 ime:https://fixourworld.ca/profile/GreenSublime
ATTENDEE;ROLE=REQ-PARTICIPANT;PARTSTAT=ACCEPTED;RSVP=TRUE;CN="James Bl
 air":https://fixourworld.ca/profile/JamesBlair
ATTENDEE;ROLE=REQ-PARTICIPANT;PARTSTAT=ACCEPTED;RSVP=TRUE;CN=FixOurWor
 ld:https://fixourworld.ca/profile/Chad
END:VEVENT
END:VCALENDAR
