BEGIN:VCALENDAR
PRODID:NingEventWidget-v1
VERSION:2.0
METHOD:PUBLISH
BEGIN:VTIMEZONE
TZID:America/Anguilla
X-LIC-LOCATION:America/Anguilla
BEGIN:STANDARD
TZOFFSETFROM:-0400
TZOFFSETTO:-0400
TZNAME:AST
DTSTART:19700101T000000
END:STANDARD
END:VTIMEZONE
BEGIN:VEVENT
UID:2024711:Event:68133
DTSTAMP:20260424T072421Z
SUMMARY:\"The Beautiful West & The Beloved of God\"
DESCRIPTION:We are sponsoring the launch of the new Canadian novel, Th
 e Beautiful West & The Beloved of God, by Michael Springate at the Hom
 egrown Hamilton, 27 King William Street, at 3 pm on Saturday, November
  8, 2014. The themes of the novel, which takes place in Montreal and C
 airo, are Islamophobia and Canadian security certificates. It also dea
 ls with the so-called \"war on terror\", CSIS, and, indirectly, Palest
 ine. All are welcome. The admission is free. The Homegrown Hamilton is
  a fully-accessible and licenced pub/restaurant, close to HSR buses do
 wntown, with on-street parking and a (paid) parking lot directly acros
 s the street. The author will read a passage from the book, answer que
 stions, and autograph copies.  FACEBOOK EVENTS PAGE: https://www.faceb
 ook.com/events/1523970344507180/\n\nFor more information visit https:/
 /fixourworld.ca/events/the-beautiful-west-the-beloved-of-god
DTSTART;TZID=America/Anguilla:20141108T150000
DTEND;TZID=America/Anguilla:20141108T170000
CATEGORIES:book, launch
LOCATION:Homegrown Hamilton
WEBSITE:http://www.hamiltoncoalitiontostopthewar.ca
URL:http://www.hamiltoncoalitiontostopthewar.ca
CONTACT:905-383-7693
ORGANIZER;CN="Ken Stone":https://fixourworld.ca/profile/KennethEverett
 Stone
ATTACH;FMTTYPE="image/jpeg":
ATTENDEE;ROLE=REQ-PARTICIPANT;PARTSTAT=ACCEPTED;RSVP=TRUE;CN="Ken Ston
 e":https://fixourworld.ca/profile/KennethEverettStone
ATTENDEE;ROLE=REQ-PARTICIPANT;PARTSTAT=TENTATIVE;RSVP=TRUE;CN=FixOurWo
 rld:https://fixourworld.ca/profile/Chad
END:VEVENT
END:VCALENDAR
