BEGIN:VCALENDAR
PRODID:NingEventWidget-v1
VERSION:2.0
METHOD:PUBLISH
BEGIN:VTIMEZONE
TZID:America/Anguilla
X-LIC-LOCATION:America/Anguilla
BEGIN:STANDARD
TZOFFSETFROM:-0400
TZOFFSETTO:-0400
TZNAME:AST
DTSTART:19700101T000000
END:STANDARD
END:VTIMEZONE
BEGIN:VEVENT
UID:2024711:Event:48080
DTSTAMP:20260422T130343Z
SUMMARY:The 3 Keys to Discovering & Living Your True Purpose
DESCRIPTION:\"The 3 Keys to Discovering & Living Your True Purpose\n\n
 As we begin this auspicious new year, many of us are sensing that for 
 the world to really change in a profound way,  we need to awaken to, 
 and align with, our true purpose and  calling in life.  That's why we
 're excited to be writing you to share a rare occasion to join one of
  the greatest spiritual luminaries of our time - Dr. Jean Houston - fo
 r a Free Global Teleconference and Gathering designed to help you di
 scover and embody this greater calling.   When Jean hosted this free 
 introduction to her work last year, nearly 50,000 people attended and 
 the response was overwhelmingly positive. If you missed it then, here'
 s another chance for you tolearn from Jean's incomparable wisdom and i
 nspiration.   In \"The 3 Keys to Discovering & Living Your True Purpo
 se,\" Jean will share her proven process for how to not only discover 
 your life's purpose, but how to infuse that purpose into your daily li
 fe.  To learn more and register for this free event, visit this webpa
 ge.\n\n\n\n\n\n\n\nFor more information visit https://fixourworld.ca/e
 vents/the-3-keys-to-discovering-living-your-true-purpose
DTSTART;TZID=America/Anguilla:20120117T173000
DTEND;TZID=America/Anguilla:20120117T190000
CATEGORIES:"dr.", jean, houston, -, for, a, free, global, teleconferen
 ce, and, gathering
LOCATION:Global
WEBSITE:http://evolvingwisdom.com/jeanhouston/yourlifepurpose/free-onl
 ine-class
URL:http://evolvingwisdom.com/jeanhouston/yourlifepurpose/free-online-
 class
CONTACT:
ORGANIZER:Copyright © 2011 Evolving Wisdom
ATTACH;FMTTYPE="image/jpeg":http://storage.ning.com/topology/rest/1.0/
 file/get/2819575168?profile=original
ATTENDEE;ROLE=REQ-PARTICIPANT;PARTSTAT=ACCEPTED;RSVP=TRUE;CN=FixOurWor
 ld:https://fixourworld.ca/profile/Chad
END:VEVENT
END:VCALENDAR
