BEGIN:VCALENDAR
PRODID:NingEventWidget-v1
VERSION:2.0
METHOD:PUBLISH
BEGIN:VTIMEZONE
TZID:America/Anguilla
X-LIC-LOCATION:America/Anguilla
BEGIN:STANDARD
TZOFFSETFROM:-0400
TZOFFSETTO:-0400
TZNAME:AST
DTSTART:19700101T000000
END:STANDARD
END:VTIMEZONE
BEGIN:VEVENT
UID:2024711:Event:11174
DTSTAMP:20260420T214927Z
SUMMARY:TD Great Canadian Shoreline Cleanup
DESCRIPTION:TD Great Canadian Shoreline Cleanup, Sept 19-27, 2009\nReg
 ister now:\nwww.tdgcsc.ca\nJoin thousands of Canadians from coast to c
 oast to help keep Canada's shorelines and waterways clean.\n\nSend to 
 a Friend\nSite Coordinators: Start your own cleanup group on Facebook\
 nFollow us on Twitter\nView and share photos\nSign up for our e-newsle
 tter\n\nIt’s not too late to become a site coordinator. Find a site 
 near you and become a coordinator or join an existing cleanup.\n\nWe'v
 e had a great response for the 16th annual TD Great Canadian Shoreline
  Cleanup, with over 35,000 Canadians from coast to coast registered so
  far!\n\nThat said, there's still plenty of shoreline to clean - it's 
 a big country!\nIt's easy to make a difference\n\nIf you're new to the
  Cleanup, just enter your province or territory in the \"find a cleanu
 p site near you\" box on this page, zoom in to your location and sites
  near you will be displayed.\n\nIf you have already registered for a c
 leanup, thank you! We need your help to get the word out, so please sh
 are this message with a friend.\n\nNew resources are available at www.
 tdgcsc.ca/connect to keep you informed and to help you promote a clean
 up in your community.\nStay connected on Twitter!\n\nIf you aren't fol
 lowing us already, @TDcleanshores is a great way to keep current on th
 e latest updates and information.\n\nTo join Twitter, follow the instr
 uctions at http://www.twitter.com.\nTell me more about the TD GCSC\n\n
 The TD Great Canadian Shoreline Cleanup is one of the largest cleanups
  in the world dedicated to preserving the health of Canada's ponds, st
 reams, rivers, lakes and oceans. Our shorelines are home to thousands 
 of living creatures and a source of inspiration and pride for all Cana
 dians. Last year nearly 65,000 Canadians registered for the TD GCSC an
 d removed 135,000 kg of litter from our shorelines. Learn more by visi
 ting www.tdgcsc.ca.\n\nFor more information visit https://fixourworld.
 ca/events/td-great-canadian-shoreline
DTSTART;TZID=America/Anguilla:20090919T000000
DTEND;TZID=America/Anguilla:20090927T235900
CATEGORIES:clean, up, "canada's", shorelines
LOCATION:Coast to Coast
WEBSITE:http://www.tdgcsc.ca
URL:http://www.tdgcsc.ca
CONTACT:
ORGANIZER:TD Great Canadian Shoreline Cleanup
ATTACH;FMTTYPE="image/jpeg":http://storage.ning.com/topology/rest/1.0/
 file/get/2819571942?profile=original
ATTENDEE;ROLE=REQ-PARTICIPANT;PARTSTAT=ACCEPTED;RSVP=TRUE;CN=FixOurWor
 ld:https://fixourworld.ca/profile/Chad
END:VEVENT
END:VCALENDAR
