BEGIN:VCALENDAR
PRODID:NingEventWidget-v1
VERSION:2.0
METHOD:PUBLISH
BEGIN:VTIMEZONE
TZID:America/Anguilla
X-LIC-LOCATION:America/Anguilla
BEGIN:STANDARD
TZOFFSETFROM:-0400
TZOFFSETTO:-0400
TZNAME:AST
DTSTART:19700101T000000
END:STANDARD
END:VTIMEZONE
BEGIN:VEVENT
UID:2024711:Event:64640
DTSTAMP:20260421T155143Z
SUMMARY:TASTE OF AFRICA
DESCRIPTION:Funds are still being received Please contact Dora Anie t
 here is a link on our website to donate, www.ghanaschoolsofdreams.com\
 nTASTE OF AFRICA,  fundraising event to build a much needed school at
  Akuffukrom a village in Ghana where presently  Kindergarten children
  are sitting under a tree with a chalk board hanging on  the tree. \
 n\n\n\n\n\nFor more information visit https://fixourworld.ca/events/ta
 ste-of-africa
DTSTART;TZID=America/Anguilla:20150509T000000
DTEND;TZID=America/Anguilla:20150509T235900
CATEGORIES:ongoing, fundraising, to, build, school, in, ghana
LOCATION:Hamilton
WEBSITE:http://www.ghanaschoolsofdreams.com
URL:http://www.ghanaschoolsofdreams.com
CONTACT:905-383-7608 or 905-978-3672
ORGANIZER;CN="Dora Anie":https://fixourworld.ca/profile/DoraAnie
ATTACH;FMTTYPE="image/jpeg":http://storage.ning.com/topology/rest/1.0/
 file/get/2819576730?profile=original
ATTENDEE;ROLE=REQ-PARTICIPANT;PARTSTAT=ACCEPTED;RSVP=TRUE;CN="Dora Ani
 e":https://fixourworld.ca/profile/DoraAnie
ATTENDEE;ROLE=REQ-PARTICIPANT;PARTSTAT=TENTATIVE;RSVP=TRUE;CN="arnab g
 hosh":https://fixourworld.ca/profile/arnabghosh
ATTENDEE;ROLE=REQ-PARTICIPANT;PARTSTAT=TENTATIVE;RSVP=TRUE;CN=FixOurWo
 rld:https://fixourworld.ca/profile/Chad
END:VEVENT
END:VCALENDAR
