BEGIN:VCALENDAR
PRODID:NingEventWidget-v1
VERSION:2.0
METHOD:PUBLISH
BEGIN:VTIMEZONE
TZID:America/Anguilla
X-LIC-LOCATION:America/Anguilla
BEGIN:STANDARD
TZOFFSETFROM:-0400
TZOFFSETTO:-0400
TZNAME:AST
DTSTART:19700101T000000
END:STANDARD
END:VTIMEZONE
BEGIN:VEVENT
UID:2024711:Event:20661
DTSTAMP:20260421T182837Z
SUMMARY:SUPPORT THE CONVERGENCE AND GET INVOLVED!  Community Mobilizat
 ion G8 G20
DESCRIPTION:**please forward widely**\n\nG8/G20 CONVERGENCE 2010\nhttp
 ://g20.torontomobilize.org\n\nALL OUT AGAINST THE G8/G20!\n25-27 June 
 2010\n\nThe Group of 8 Leaders and the Group of 20 Leaders are meeting
  in Ontario,\nfrom the 25th to the 27th of June, 2010. On these same d
 ates we are\ncalling for a people's convergence in Toronto.\n\nThese g
 atherings are about trying to fix capitalism, a system that cannot\nbe
  fixed; about creating unsustainable trading solutions to ecological\n
 catastrophe; about ensuring the continued exploitation of people of co
 lour\nand the South and about celebrating war as a means to create pup
 pet allies\nand maintain imperialist power.\n\nThis is a call to disru
 pt and shut down the places, the systems and the\nideas that exploit a
 nd exclude us.\n\nIn their place, let us creatively build the world we
  wish to live in. A\nworld with self-determination for indigenous peop
 les; climate and\nenvironmental justice; income equity and community c
 ontrol over resources;\nmigrant justice and an end to war and occupati
 on; gender justice, queer\nand disAbility rights.\n\nOn these days, we
  call for Days of Action across the world that showcase\nsolutions fro
 m the ground up.\n\n++++++++++++++++++++++++++++++++++\nTo endorse the
  Network and the\nSolidarity and Respect Statement\nemail community.mo
 biliz@resist.ca\n++++++++++++++++++++++++++++++++++\n\nSOLIDARITY AND 
 RESPECT\n\nPREAMBLE\n\nWe have come together in solidarity and respect
 , with the belief that\ntogether we can create a movement whose sum is
  greater than its parts.\n\nWe are all striving for similar goals. We 
 are working for a world free of\ncapitalism, sexism, of classism, of r
 acism, of colonialism, of\nhomo/lesbo/bi/trans-phobia, of environmenta
 l destruction, of abledism and\nof ageism.\n\nWeb: http://g20.torontom
 obilize.org\nFacebook: http://www.facebook.com/group.php?gid=236150947
 036\nTwitter: http://twitter.com/g20mobilize\nEmail: community.mobiliz
 e@resist.ca\n\nFor more information visit https://fixourworld.ca/event
 s/support-the-convergence-and
DTSTART;TZID=America/Anguilla:20100625T000000
DTEND;TZID=America/Anguilla:20100627T235900
CATEGORIES:calling, for, a, "people's", convergence, in, "toronto."
LOCATION:Toronto
WEBSITE:http://g20.torontomobilize.org/tools]
URL:http://g20.torontomobilize.org/tools]
CONTACT:
ORGANIZER:Mobilization Network, 360A Bloor Street West, PO Box 68557, 
 Toronto, ON
ATTACH;FMTTYPE="image/jpeg":
ATTENDEE;ROLE=REQ-PARTICIPANT;PARTSTAT=ACCEPTED;RSVP=TRUE;CN=FixOurWor
 ld:https://fixourworld.ca/profile/Chad
END:VEVENT
END:VCALENDAR
