BEGIN:VCALENDAR
PRODID:NingEventWidget-v1
VERSION:2.0
METHOD:PUBLISH
BEGIN:VTIMEZONE
TZID:America/Anguilla
X-LIC-LOCATION:America/Anguilla
BEGIN:STANDARD
TZOFFSETFROM:-0400
TZOFFSETTO:-0400
TZNAME:AST
DTSTART:19700101T000000
END:STANDARD
END:VTIMEZONE
BEGIN:VEVENT
UID:2024711:Event:54805
DTSTAMP:20260426T000830Z
SUMMARY:Stewards of Cootes Watershed
DESCRIPTION: \nThis one is going to be particularly fun folks\n9 am t
 o Noon this Sunday\nMeet at the entrance to the RBG parking lot Old Gu
 elph Road\nSee Green Arrow  http://goo.gl/maps/td47x\n4 Televisions, 
 a mattress, a couch, many buckets, lots of smaller items.  I could ta
 lk about the 41 tires but we got those out last week\nSadly this area 
 has been used in the past as a dumping ground.  We have proven time a
 nd again that garbage attracts more garbage.  May have taken 20 years
  for this mess to accumulate.\nSo we'll get it clean and assign a stew
 ard to keep it clean.  In an era where you no longer have to pay when
  you discard tires, bulk pickup is done by the city for free, and peop
 le in general care more about the environment -  this may well be eno
 ugh.  \nBut we're about comprehensive long-term solutions which is an
 other way of saying \"stewardship\" - so if it's not enough we will no
 t hesitate to up our efforts up to and including survelliance cameras 
 in order to make sure that the Corner Brook Valley is treated with res
 pect.\nCome help us effect change.\nAs always gloves ad great people t
 o work with are provided.  If you don't have proper boots let me know
  and I can bring some for you.\nCheers Alan\n\n\n\n\n\n\n\n\n\n\n\nIMG
 _0276.JPG\n304 KB\n\n\n\n\n\n\n\n\n\n\n\n\n\n\n\n\n\n\n\n\nFor more in
 formation visit https://fixourworld.ca/events/stewards-of-cootes-water
 shed
DTSTART;TZID=America/Anguilla:20131124T090000
DTEND;TZID=America/Anguilla:20131231T230000
CATEGORIES:environmental, clean, up
LOCATION:Meet at the entrance to the RBG parking lot Old Guelph Road
WEBSITE:http://See Green Arrow  http://goo.gl/maps/td47x
URL:http://See Green Arrow  http://goo.gl/maps/td47x
CONTACT:289-239-7649
ORGANIZER;CN="Stewards of Cootes Watershed":https://fixourworld.ca/pro
 file/StewardsofCootesWatershed
ATTACH;FMTTYPE="image/jpeg":http://storage.ning.com/topology/rest/1.0/
 file/get/2819575667?profile=original
ATTENDEE;ROLE=REQ-PARTICIPANT;PARTSTAT=ACCEPTED;RSVP=TRUE;CN="Mark che
 wter":https://fixourworld.ca/profile/Markchewter
ATTENDEE;ROLE=REQ-PARTICIPANT;PARTSTAT=ACCEPTED;RSVP=TRUE;CN=FixOurWor
 ld:https://fixourworld.ca/profile/Chad
ATTENDEE;ROLE=REQ-PARTICIPANT;PARTSTAT=ACCEPTED;RSVP=TRUE;CN="Stewards
  of Cootes Watershed":https://fixourworld.ca/profile/StewardsofCootesW
 atershed
END:VEVENT
END:VCALENDAR
