BEGIN:VCALENDAR
PRODID:NingEventWidget-v1
VERSION:2.0
METHOD:PUBLISH
BEGIN:VTIMEZONE
TZID:America/Anguilla
X-LIC-LOCATION:America/Anguilla
BEGIN:STANDARD
TZOFFSETFROM:-0400
TZOFFSETTO:-0400
TZNAME:AST
DTSTART:19700101T000000
END:STANDARD
END:VTIMEZONE
BEGIN:VEVENT
UID:2024711:Event:48826
DTSTAMP:20260425T235634Z
SUMMARY:Spring Cootes Clean Up
DESCRIPTION:On March 24th at 10am - 1pm the McMaster Outdoors Club wil
 l be hosting their annual Spring Cootes Cleanup. Please meet us at one
  of the following locations to help keep the area we live in looking b
 eautiful! -Alpine Tower on McMaster University campus -Princess Point 
 near the bridge -Churchill Park near the aviary -Parking Lot M (beside
  Cootes Drive) Join us afterwards for a free BBQ and prizes at the McM
 aster  Alpine Tower compound behind IWC\nA special thanks goes out to
  our sponsors Mountain Equipment Co-op and Metro. Hope to see you all 
 there.\n\nFor more information visit https://fixourworld.ca/events/spr
 ing-cootes-clean-up
DTSTART;TZID=America/Anguilla:20120324T100000
DTEND;TZID=America/Anguilla:20120324T130000
CATEGORIES:clean, up
LOCATION:Various areas around south shore of Cootes
WEBSITE:http://www.macoutdoorclub.ca/
URL:http://www.macoutdoorclub.ca/
CONTACT:905-525-9140 ext 26384
ORGANIZER;CN="Wayne Terryberry":https://fixourworld.ca/profile/WayneTe
 rryberry
ATTACH;FMTTYPE="image/jpeg":http://storage.ning.com/topology/rest/1.0/
 file/get/2819575791?profile=original
ATTENDEE;ROLE=REQ-PARTICIPANT;PARTSTAT=ACCEPTED;RSVP=TRUE;CN="Wayne Te
 rryberry":https://fixourworld.ca/profile/WayneTerryberry
END:VEVENT
END:VCALENDAR
