BEGIN:VCALENDAR
PRODID:NingEventWidget-v1
VERSION:2.0
METHOD:PUBLISH
BEGIN:VTIMEZONE
TZID:America/Anguilla
X-LIC-LOCATION:America/Anguilla
BEGIN:STANDARD
TZOFFSETFROM:-0400
TZOFFSETTO:-0400
TZNAME:AST
DTSTART:19700101T000000
END:STANDARD
END:VTIMEZONE
BEGIN:VEVENT
UID:2024711:Event:27072
DTSTAMP:20260425T111920Z
SUMMARY:Shen Yun Performance Arts
DESCRIPTION: \nShen Yun presents colorful and exhilarating performanc
 es of classical Chinese dance and music. A performance by Shen Yun is 
 a presentation of traditional Chinese culture as it once was: a study 
 in grace, wisdom, and the virtues distilled from the five millennia of
  Chinese civilization.\nDates: Dec 29th 2010 at 7:00 pm and 30th  
 2010 at 1:30pm\n Place: Hamilton Place Theatre\nWebsite: http://www.
 shenyunperformingarts.org/, http://hamiltonshow.ca/\n\n\n \n\nFor mo
 re information visit https://fixourworld.ca/events/shen-yun-performanc
 e-arts
DTSTART;TZID=America/Anguilla:20101229T190000
DTEND;TZID=America/Anguilla:20101230T133000
CATEGORIES:performance, arts
LOCATION:Hamilton Place Theatre
WEBSITE:http://www.shenyunperformingarts.org/, http://hamiltonshow.ca/
URL:http://www.shenyunperformingarts.org/, http://hamiltonshow.ca/
CONTACT:
ORGANIZER:Shen Yun Performing Arts
ATTACH;FMTTYPE="image/jpeg":http://storage.ning.com/topology/rest/1.0/
 file/get/2819572452?profile=original
ATTENDEE;ROLE=REQ-PARTICIPANT;PARTSTAT=ACCEPTED;RSVP=TRUE;CN=FixOurWor
 ld:https://fixourworld.ca/profile/Chad
END:VEVENT
END:VCALENDAR
