BEGIN:VCALENDAR
PRODID:NingEventWidget-v1
VERSION:2.0
METHOD:PUBLISH
BEGIN:VTIMEZONE
TZID:America/Anguilla
X-LIC-LOCATION:America/Anguilla
BEGIN:STANDARD
TZOFFSETFROM:-0400
TZOFFSETTO:-0400
TZNAME:AST
DTSTART:19700101T000000
END:STANDARD
END:VTIMEZONE
BEGIN:VEVENT
UID:2024711:Event:65815
DTSTAMP:20260421T051915Z
SUMMARY:Shake It Up
DESCRIPTION:https://www.facebook.com/events/1397654850455055/?fref=ts\
 nA Social Evening Introducing:  HAMILTON'S 2014 'ELECTION' POLITICIAN
 S (*all Municipal Politicians, all Provincial and all Federal Politici
 ans + School Board Trustees for Hamilton have been invited.)  Thursday
 , May 22, 2014 The Sheraton Hotel (116 King St. W., Hamilton) Doors Op
 en: 5:30 p.m. Buffet Dinner and Cash Bar: 6:00 p.m.  Local 'COLOURFUL'
  Entertainment, Music and Dancing!  $35.00 Dinner includes $5.00 suppo
 rting 20 Local Kids attending Camp Mini Yo We (August 17-23, 2014)  Sp
 onsored By: WE ROCK (We Raise Our Communities Kindness) and EAST ENDER
 S ASSOCIATION  Join in this event to support 20 kids going to camp thi
 s summer and have a great evening with your Politicians!  Better yet 
 - Call your area Politician and join him/her for dinner!!! This is a w
 onderful event for our Community to get together in lieu of the electi
 on, send a kid to camp and have some fun!  Please Come and Invite Your
  Family, Friends, Neighbours, Co-Workers and Colleagues!  Meet the can
 didates. Introductions will be made, Tables will be assigned for the M
 ayors, Councillors, and School Trustees.   For tickets and informatio
 n call Lorna Moreau (905) 545-9533 or Barbara LaFleshe (905) 544-8
 293   So sorry tickets cannot be sold at the door. :)\n\n\n\nFor more
  information visit https://fixourworld.ca/events/shake-it-up
DTSTART;TZID=America/Anguilla:20140522T173000
DTEND;TZID=America/Anguilla:20140522T220000
CATEGORIES:fundraiser, for, local, youth, to, go, camp
LOCATION:The Sheraton Hotel
WEBSITE:
URL:
CONTACT:Lorna Moreau (905) 545-9533 or Barbara LaFleshe (905) 544-8293
ORGANIZER:Sponsored By: WE ROCK (We Raise Our Communities Kindness) an
 d EAST ENDERS ASSOCIATION
ATTACH;FMTTYPE="image/jpeg":http://storage.ning.com/topology/rest/1.0/
 file/get/2819576603?profile=original
ATTENDEE;ROLE=REQ-PARTICIPANT;PARTSTAT=ACCEPTED;RSVP=TRUE;CN=FixOurWor
 ld:https://fixourworld.ca/profile/Chad
END:VEVENT
END:VCALENDAR
