BEGIN:VCALENDAR
PRODID:NingEventWidget-v1
VERSION:2.0
METHOD:PUBLISH
BEGIN:VTIMEZONE
TZID:America/Anguilla
X-LIC-LOCATION:America/Anguilla
BEGIN:STANDARD
TZOFFSETFROM:-0400
TZOFFSETTO:-0400
TZNAME:AST
DTSTART:19700101T000000
END:STANDARD
END:VTIMEZONE
BEGIN:VEVENT
UID:2024711:Event:51146
DTSTAMP:20260425T213542Z
SUMMARY:Sacred Fire Schedule Ancaster
DESCRIPTION:Greetings:I look forward to seeing you at Munay-Ki and ful
 l moonÂ sacred fire ceremony on Sunday.Â This is an outdoorÂ ceremonyÂ
  so please dress for the weather and the temperatures. Our fire ceremo
 ny and Munay-Ki Rites take place rain, snowÂ or shine.Â Please comeÂ b
 eforeÂ ourÂ fireÂ ceremonyÂ atÂ 3:30pmÂ for Munay-Ki rites.Â  Please v
 isitÂ www.munay-ki.orgÂ for preparation and for more informationÂ for 
 theÂ Munay-Ki rites.Â  Fire ceremony will begin following Munay-Ki rit
 es atÂ 5pm.Â Location: #620 Lions Club Road, Ancaster ON (Barbara Smit
 h's homeÂ 905-304-1141)Â RSVP notÂ required.Â For fire ceremony a dona
 tion of $.50 per person, OR firewood,Â newspaper, kindling is apprecia
 ted.Â Please share this email with anyone who would like to attend fir
 e ceremony or receive Munay-Ki rites.I look forward toÂ seeing youÂ fo
 rÂ fire ceremonyÂ and Munay-Ki rites.Â  Love and light, JanetÂ 289-260
 -00132012 Sacred Fire Ceremony ScheduleSun Dec 30 at 5:00pmÂ (full moo
 n on Dec 28)Â Munay-KiÂ starting at 3:30pm\n\n\nFor more information v
 isit https://fixourworld.ca/events/sacred-fire-schedule-ancaster
DTSTART;TZID=America/Anguilla:20121230T153000
DTEND;TZID=America/Anguilla:20121230T180000
CATEGORIES:blessing, to, the, earth
LOCATION:(Barbara Smith's home
WEBSITE:
URL:
CONTACT:(289-260-0013)
ORGANIZER:Janet
ATTACH;FMTTYPE="image/jpeg":http://storage.ning.com/topology/rest/1.0/
 file/get/2699580694?profile=original
ATTENDEE;ROLE=REQ-PARTICIPANT;PARTSTAT=ACCEPTED;RSVP=TRUE;CN=FixOurWor
 ld:https://fixourworld.ca/profile/Chad
END:VEVENT
END:VCALENDAR
