BEGIN:VCALENDAR
PRODID:NingEventWidget-v1
VERSION:2.0
METHOD:PUBLISH
BEGIN:VTIMEZONE
TZID:America/Anguilla
X-LIC-LOCATION:America/Anguilla
BEGIN:STANDARD
TZOFFSETFROM:-0400
TZOFFSETTO:-0400
TZNAME:AST
DTSTART:19700101T000000
END:STANDARD
END:VTIMEZONE
BEGIN:VEVENT
UID:2024711:Event:10128
DTSTAMP:20260421T214605Z
SUMMARY:PUNISHMENT cd \"Beautiful Suffering\" Release Show & Afterpart
 y
DESCRIPTION:Come out and celebrate the \"official\" release of PUNISHM
 ENT'S debut CD - \"Beautiful Suffering\" with a LIVE performance begin
 ning at 11:00 pm...followed by a \"meet and greet\" with the band in t
 he V.I.P. LOUNGE overlooking the main room in The Phoenix Concert Thea
 tre.19+\n\nFor more information visit https://fixourworld.ca/events/pu
 nishment-cd-beautiful
DTSTART;TZID=America/Anguilla:20090523T220000
DTEND;TZID=America/Anguilla:20090524T020000
CATEGORIES:night, of, mayhem, cd, release, party
LOCATION:Phoenix Concert Theatre
WEBSITE:http://Email: francesca@punishment-music.com
URL:http://Email: francesca@punishment-music.com
CONTACT:
ORGANIZER:Punishment
ATTACH;FMTTYPE="image/jpeg":http://storage.ning.com/topology/rest/1.0/
 file/get/2819571487?profile=original
ATTENDEE;ROLE=REQ-PARTICIPANT;PARTSTAT=ACCEPTED;RSVP=TRUE;CN=FixOurWor
 ld:https://fixourworld.ca/profile/Chad
END:VEVENT
END:VCALENDAR
