BEGIN:VCALENDAR
PRODID:NingEventWidget-v1
VERSION:2.0
METHOD:PUBLISH
BEGIN:VTIMEZONE
TZID:America/Anguilla
X-LIC-LOCATION:America/Anguilla
BEGIN:STANDARD
TZOFFSETFROM:-0400
TZOFFSETTO:-0400
TZNAME:AST
DTSTART:19700101T000000
END:STANDARD
END:VTIMEZONE
BEGIN:VEVENT
UID:2024711:Event:139265
DTSTAMP:20260424T141644Z
SUMMARY:Peter Mercanti
DESCRIPTION:Peter Mercanti has done a lot for Hamilton and this book l
 ooks at his accomplishments as well as the difficult journey to become
  a better man.\n\nFor more information visit https://fixourworld.ca/ev
 ents/peter-mercanti
DTSTART;TZID=America/Anguilla:20211120T180000
DTEND;TZID=America/Anguilla:20211120T190000
CATEGORIES:book
LOCATION:Hamilton
WEBSITE:https://books.friesenpress.com/store/title/119734000163634952/
 Peter-Tassi-It-All-Started-With-Lasagna
URL:https://books.friesenpress.com/store/title/119734000163634952/Pete
 r-Tassi-It-All-Started-With-Lasagna
CONTACT:19055706837
ORGANIZER;CN="Peter Tassi":https://fixourworld.ca/profile/PeterTassi
ATTACH;FMTTYPE="image/jpeg":https://storage.ning.com/topology/rest/1.0
 /file/get/9827610282?profile=original
ATTENDEE;ROLE=REQ-PARTICIPANT;PARTSTAT=ACCEPTED;RSVP=TRUE;CN="Peter Ta
 ssi":https://fixourworld.ca/profile/PeterTassi
END:VEVENT
END:VCALENDAR
