BEGIN:VCALENDAR
PRODID:NingEventWidget-v1
VERSION:2.0
METHOD:PUBLISH
BEGIN:VTIMEZONE
TZID:America/Anguilla
X-LIC-LOCATION:America/Anguilla
BEGIN:STANDARD
TZOFFSETFROM:-0400
TZOFFSETTO:-0400
TZNAME:AST
DTSTART:19700101T000000
END:STANDARD
END:VTIMEZONE
BEGIN:VEVENT
UID:2024711:Event:68951
DTSTAMP:20260424T113616Z
SUMMARY:Padre Pio The Musical
DESCRIPTION:Would members be interested in attending Padre Pio, The Mu
 sical. It has received standing ovations 5 nights in a row to sold ou
 t audiences and there are only 4 shows left. A romantic comedy that t
 ells the story of this great Italian saint who's profound teachings on
  suffering impacts on people to this day. Saturday January 31st at Our
  Lady of Lourdes Hall on Mohawk Road and then February  5,6 and 7 at
  Immaculate Heart of Mary on Hwy 8 Stoney Creek. Doors open at 7. Show
  time at 8. Written by Peter Tassi and John Cope. Directed by Peter An
 derson of Classical Theatre Company.\n\nFor more information visit htt
 ps://fixourworld.ca/events/padre-pio-the-musical
DTSTART;TZID=America/Anguilla:20150131T180000
DTEND;TZID=America/Anguilla:20150207T190000
CATEGORIES:musical, play
LOCATION:Immaculate Heart of Mary Hwy #8
WEBSITE:http://www.classicaltheatre.ca
URL:http://www.classicaltheatre.ca
CONTACT:289-442-2266
ORGANIZER:Peter Anderson at Classical Theatre Company
ATTACH;FMTTYPE="image/jpeg":
ATTENDEE;ROLE=REQ-PARTICIPANT;PARTSTAT=ACCEPTED;RSVP=TRUE;CN=FixOurWor
 ld:https://fixourworld.ca/profile/Chad
ATTENDEE;ROLE=REQ-PARTICIPANT;PARTSTAT=ACCEPTED;RSVP=TRUE;CN="Peter Ta
 ssi":https://fixourworld.ca/profile/PeterTassi
END:VEVENT
END:VCALENDAR
