BEGIN:VCALENDAR
PRODID:NingEventWidget-v1
VERSION:2.0
METHOD:PUBLISH
BEGIN:VTIMEZONE
TZID:America/Anguilla
X-LIC-LOCATION:America/Anguilla
BEGIN:STANDARD
TZOFFSETFROM:-0400
TZOFFSETTO:-0400
TZNAME:AST
DTSTART:19700101T000000
END:STANDARD
END:VTIMEZONE
BEGIN:VEVENT
UID:2024711:Event:36460
DTSTAMP:20260419T150158Z
SUMMARY:Open Streets Hamilton
DESCRIPTION:Leave your car at home and come walk, ride, or roll down J
 ames St. North! Join us for this family-friendly event by walking, cyc
 ling, rollerblading or skateboarding the whole family over to James St
 . North between the hours of 10am to 5pm.\n\nDuring this time, section
 s of the street will be closed to cars and we ask that you find an alt
 ernate route if you must drive, or park your car and get active! We in
 vite everyone to experience James St North, Gore Park, and the waterfr
 ont from the middle of the street!\n\nJames Street North (York Blvd to
  Guise)\n\nFor more information visit https://fixourworld.ca/events/op
 en-streets-hamilton
DTSTART;TZID=America/Anguilla:20110612T090000
DTEND;TZID=America/Anguilla:20110612T170000
CATEGORIES:family
LOCATION:Hamilton
WEBSITE:http://openstreetshamilton.ca/
URL:http://openstreetshamilton.ca/
CONTACT:
ORGANIZER:Open Streets Hamilton
ATTACH;FMTTYPE="image/jpeg":
ATTENDEE;ROLE=REQ-PARTICIPANT;PARTSTAT=ACCEPTED;RSVP=TRUE;CN=FixOurWor
 ld:https://fixourworld.ca/profile/Chad
ATTENDEE;ROLE=REQ-PARTICIPANT;PARTSTAT=TENTATIVE;RSVP=TRUE;CN="mary ja
 niga":https://fixourworld.ca/profile/maryjaniga
END:VEVENT
END:VCALENDAR
