BEGIN:VCALENDAR
PRODID:NingEventWidget-v1
VERSION:2.0
METHOD:PUBLISH
BEGIN:VTIMEZONE
TZID:America/Anguilla
X-LIC-LOCATION:America/Anguilla
BEGIN:STANDARD
TZOFFSETFROM:-0400
TZOFFSETTO:-0400
TZNAME:AST
DTSTART:19700101T000000
END:STANDARD
END:VTIMEZONE
BEGIN:VEVENT
UID:2024711:Event:50551
DTSTAMP:20260421T200903Z
SUMMARY:Need volunteers to pack the Good Food Box
DESCRIPTION:Just a reminder that we need volunteers to pack the Good F
 ood Box next week Wednesday. Location: Old Picton Library building, 50
 0 James St. N, Suite 100 or come around to the back parking lot to one
  of the furthest back doors.We still start at 10am and hopefully can
  be done no later than 1pm. We also are starting our 2nd pack day thi
 s month - the 4th Wednesday we'll need volunteers also. If you are ab
 le to make that instead of next week - that's fine too. If you'd like 
 to help both days - fantastic - we'll need you!Hope to see you there!C
 rystle\n\nFor more information visit https://fixourworld.ca/events/nee
 d-volunteers-to-pack-the-good-food-box
DTSTART;TZID=America/Anguilla:20120516T100000
DTEND;TZID=America/Anguilla:20120516T130000
CATEGORIES:need, volunteers, to, pack, the, good, food, box
LOCATION:Old Picton Library building
WEBSITE:
URL:
CONTACT:
ORGANIZER:the Good Food Box
ATTACH;FMTTYPE="image/jpeg":
ATTENDEE;ROLE=REQ-PARTICIPANT;PARTSTAT=ACCEPTED;RSVP=TRUE;CN=FixOurWor
 ld:https://fixourworld.ca/profile/Chad
END:VEVENT
END:VCALENDAR
