BEGIN:VCALENDAR
PRODID:NingEventWidget-v1
VERSION:2.0
METHOD:PUBLISH
BEGIN:VTIMEZONE
TZID:America/Anguilla
X-LIC-LOCATION:America/Anguilla
BEGIN:STANDARD
TZOFFSETFROM:-0400
TZOFFSETTO:-0400
TZNAME:AST
DTSTART:19700101T000000
END:STANDARD
END:VTIMEZONE
BEGIN:VEVENT
UID:2024711:Event:65752
DTSTAMP:20260424T084023Z
SUMMARY:Garry Tibbo Workshop - Edible Wild Foods from your own backyar
 d
DESCRIPTION:Learn a lifelong skill that will Empower your entire famil
 y. Edible Wild Food from your own backyard and around your neighborhoo
 d. Learn how to eat by seasonMust contact Fix Our World 905 518 1308 E
 lectricity, water, food, shelter.  If these are interrupted, what wil
 l you do, what can you do?  My native heritage, health issues and per
 sonal challenges made me take a good hard look at self-sufficiency and
  self-reliance. I am here to teach people how to live without grocery 
 stores and even pay your mortgage bills without even having a job. Ev
 erything you need is within one mile of where you live. It doesn't mat
 ter if you live in suburbia (I do), or live where it snows in the wint
 er (I do). Forget the economy and everything you've ever been told abo
 ut health. Nature is perfect and as all the answers. You just have to 
 know how to understand the truth that's all around you. \n\n\nFailing 
 to plan is planning to fail..   On the other hand --- successful plan
 ning is planning for success.  Changes in our environment are certain
  and coming whether you are ready or not.  I can introduce you to som
 e simple things that anyone can afford over a reasonable amount of tim
 e:  knowledge, wisdom, books and tools.  Our government advises prep
 aration for 72 hours.  I say three weeks, how about three months or f
 or as long as you can prepare ahead.  Learn to eat by the season and 
 get your grocery bill down to 30 dollars a week. \n\n I thank God for
  the wisdom I have been granted and am able to share. \n\n\n\n\n\n\nO
 ur first class is Sunday June 1st, 2014 .\nThere are foods in each sea
 son, and even one food can be picked and used in many seasons Groups 
 of 5 0r more. $50 00 each person per day. when to harvest, different 
 uses, how to dry, how to store, we will eat this together. \n \nWarr
 ior of truth Garry.  \n  \n\n\nFor more information visit https://fix
 ourworld.ca/events/nature-is-perfect-and-as-all-the-answers-survival-e
 veryone-needs
DTSTART;TZID=America/Anguilla:20141109T000000
DTEND;TZID=America/Anguilla:20141231T235900
CATEGORIES:free, food, from, nature, survival, education
LOCATION:Garry's Farm in Terra Nova
WEBSITE:
URL:
CONTACT:905 518 1308
ORGANIZER;CN=FixOurWorld:https://fixourworld.ca/profile/Chad
ATTACH;FMTTYPE="image/jpeg":http://storage.ning.com/topology/rest/1.0/
 file/get/2819576674?profile=original
ATTENDEE;ROLE=REQ-PARTICIPANT;PARTSTAT=ACCEPTED;RSVP=TRUE;CN="Sarah Mc
 Combe":https://fixourworld.ca/profile/SarahMcCombe
ATTENDEE;ROLE=REQ-PARTICIPANT;PARTSTAT=ACCEPTED;RSVP=TRUE;CN=Linda:htt
 ps://fixourworld.ca/profile/Linda
ATTENDEE;ROLE=REQ-PARTICIPANT;PARTSTAT=ACCEPTED;RSVP=TRUE;CN=FixOurWor
 ld:https://fixourworld.ca/profile/Chad
END:VEVENT
END:VCALENDAR
