BEGIN:VCALENDAR
PRODID:NingEventWidget-v1
VERSION:2.0
METHOD:PUBLISH
BEGIN:VTIMEZONE
TZID:America/Anguilla
X-LIC-LOCATION:America/Anguilla
BEGIN:STANDARD
TZOFFSETFROM:-0400
TZOFFSETTO:-0400
TZNAME:AST
DTSTART:19700101T000000
END:STANDARD
END:VTIMEZONE
BEGIN:VEVENT
UID:2024711:Event:9480
DTSTAMP:20260424T073405Z
SUMMARY:National Day of Mourning for workers
DESCRIPTION:National Day of Mourning for workers who have been killed,
  suffer disease or injury as a result of work.\nCorner of Bay and Main
 , Hamilton.\nSpeaker Eric Olivieri, injured young worker activist\n\nF
 or more information visit https://fixourworld.ca/events/national-day-o
 f-mourning-for
DTSTART;TZID=America/Anguilla:20090428T103000
DTEND;TZID=America/Anguilla:20090428T113000
CATEGORIES:national, day, of, mourning, for, workers
LOCATION:Corner of Main St and Bay St S.
WEBSITE:http://Contact Don Fraser
URL:http://Contact Don Fraser
CONTACT:9055472944
ORGANIZER:Hamilton District and Labour Council
ATTACH;FMTTYPE="image/jpeg":http://storage.ning.com/topology/rest/1.0/
 file/get/2819571393?profile=original
ATTENDEE;ROLE=REQ-PARTICIPANT;PARTSTAT=ACCEPTED;RSVP=TRUE;CN="Mary Lon
 g":https://fixourworld.ca/profile/MaryLong
ATTENDEE;ROLE=REQ-PARTICIPANT;PARTSTAT=ACCEPTED;RSVP=TRUE;CN=Valerie:h
 ttps://fixourworld.ca/profile/Valerie
ATTENDEE;ROLE=REQ-PARTICIPANT;PARTSTAT=ACCEPTED;RSVP=TRUE;CN=FixOurWor
 ld:https://fixourworld.ca/profile/Chad
END:VEVENT
END:VCALENDAR
