BEGIN:VCALENDAR
PRODID:NingEventWidget-v1
VERSION:2.0
METHOD:PUBLISH
BEGIN:VTIMEZONE
TZID:America/Anguilla
X-LIC-LOCATION:America/Anguilla
BEGIN:STANDARD
TZOFFSETFROM:-0400
TZOFFSETTO:-0400
TZNAME:AST
DTSTART:19700101T000000
END:STANDARD
END:VTIMEZONE
BEGIN:VEVENT
UID:2024711:Event:17487
DTSTAMP:20260421T183247Z
SUMMARY:Musical Mutiny: Battle of the Bands
DESCRIPTION:6 Bands will Battle it out! An event you don't want to mis
 s! Come out and cheer on your favourite!\n\nTop Prize: 14 hours of rec
 ording time from Silver Studio Hamilton!!\nValued at $630. Located in 
 the heart of downtown at James and Wilson Streets.\nhttp://www.silvers
 tudiohamilton.com\nSponsored by Dan Medakovic\n\nOther Prizes include 
 gift certificates, apparel and more!\n\nSponsored by\n\n1) The Mountai
 n Music Store http://www.mountainmusic.ca/main.htm\n\n2) Pongetti Musi
 c\nhttp://www.pongettimusic.com/\n\n3) Absolute Music Store\nhttp://ww
 w.absolutemusiccanada.com/\n\n\nLive Video Streaming from This Ain't H
 ollywood provided by Art Of Giving Foundation. http://www.artofgivingf
 oundation.com\n\nVideo: No One Knows by Tani Anderson http://www.tania
 nderson.com\n\nParticipating Bands confirmed to date:\nZone of Resista
 nce\nThose Purple Shirts\nESRB\nMurphy Slaw\nConservation Authority\nA
 ll For Nothing\n\nJudges:\nSpider Costello, Dan Medakovic, Christopher
  Clause,\n\nFundraiser for War Child Canada organized by War Child @ M
 AC and Fix Our World. Proceeds will help war-torn communities in over 
 10 conflict zones across the world. For more information about War Chi
 ld's programs, visit: www.warchild.ca\n\nFor more information visit ht
 tps://fixourworld.ca/events/musical-mutiny-battle-of-the
DTSTART;TZID=America/Anguilla:20100302T200000
DTEND;TZID=America/Anguilla:20100303T000000
CATEGORIES:battle, of, the, bands, fundraiser
LOCATION:This Ain't Hollywood
WEBSITE:http://www.thisainthollywood.ca
URL:http://www.thisainthollywood.ca
CONTACT:905 529 9500
ORGANIZER:FixOurWorld & WarChild@Mac
ATTACH;FMTTYPE="image/jpeg":http://storage.ning.com/topology/rest/1.0/
 file/get/2819572249?profile=original
ATTENDEE;ROLE=REQ-PARTICIPANT;PARTSTAT=ACCEPTED;RSVP=TRUE;CN=FixOurWor
 ld:https://fixourworld.ca/profile/Chad
END:VEVENT
END:VCALENDAR
