BEGIN:VCALENDAR
PRODID:NingEventWidget-v1
VERSION:2.0
METHOD:PUBLISH
BEGIN:VTIMEZONE
TZID:America/Anguilla
X-LIC-LOCATION:America/Anguilla
BEGIN:STANDARD
TZOFFSETFROM:-0400
TZOFFSETTO:-0400
TZNAME:AST
DTSTART:19700101T000000
END:STANDARD
END:VTIMEZONE
BEGIN:VEVENT
UID:2024711:Event:84359
DTSTAMP:20260421T110626Z
SUMMARY:Mini African dance &amp; music festival
DESCRIPTION:This mini festival is the kick-off of our upcoming African
  dance & music festival in Milton, Ontario. It's a participative-spect
 acle with audiences. Please do not miss it.\nAkwaba Dance Company is a
  3 times Awards winning, 1 Gold medal and 1 Trophee.September%2013%20p
 oster%20Akwaba..odt\n\nFor more information visit https://fixourworld.
 ca/events/mini-african-dance-amp-music-festival
DTSTART;TZID=America/Anguilla:20190913T000000
DTEND;TZID=America/Anguilla:20190913T235900
CATEGORIES:entertainment
LOCATION:FirstOntario Arts Centre Milton, 1010 Main street, Milton, ON
 (Canada).
WEBSITE:
URL:
CONTACT:
ORGANIZER;CN="Jean Assamoa":https://fixourworld.ca/profile/JeanAssamoa
ATTACH;FMTTYPE="image/jpeg":
ATTENDEE;ROLE=REQ-PARTICIPANT;PARTSTAT=ACCEPTED;RSVP=TRUE;CN="Jean Ass
 amoa":https://fixourworld.ca/profile/JeanAssamoa
ATTENDEE;ROLE=REQ-PARTICIPANT;PARTSTAT=TENTATIVE;RSVP=TRUE;CN=FixOurWo
 rld:https://fixourworld.ca/profile/Chad
END:VEVENT
END:VCALENDAR
