BEGIN:VCALENDAR
PRODID:NingEventWidget-v1
VERSION:2.0
METHOD:PUBLISH
BEGIN:VTIMEZONE
TZID:America/Anguilla
X-LIC-LOCATION:America/Anguilla
BEGIN:STANDARD
TZOFFSETFROM:-0400
TZOFFSETTO:-0400
TZNAME:AST
DTSTART:19700101T000000
END:STANDARD
END:VTIMEZONE
BEGIN:VEVENT
UID:2024711:Event:144348
DTSTAMP:20260421T105721Z
SUMMARY:Milton African and Multicultural Festival 2023
DESCRIPTION:Celebrating African and multicultural diversity: The Milto
 n African and Multicultural Festival is a celebration of the richness 
 and diversity of African cultures and other cultures from around the w
 orld. We celebrate the differences that make us a unique and vibrant c
 ommunity.\n\nFor more information visit https://fixourworld.ca/events/
 milton-african-and-multicultural-festival-2023
DTSTART;TZID=America/Anguilla:20230812T000000
DTEND;TZID=America/Anguilla:20230812T235900
CATEGORIES:festival
LOCATION:Milton Sports Centre(Milton Community Park)
WEBSITE:http://www.miltonmulticulturalfestival.com
URL:http://www.miltonmulticulturalfestival.com
CONTACT:4169382320
ORGANIZER:Akwaba Cultural Exchange
ATTACH;FMTTYPE="image/jpeg":https://storage.ning.com/topology/rest/1.0
 /file/get/10999738262?profile=original
ATTENDEE;ROLE=REQ-PARTICIPANT;PARTSTAT=ACCEPTED;RSVP=TRUE;CN=FixOurWor
 ld:https://fixourworld.ca/profile/Chad
ATTENDEE;ROLE=REQ-PARTICIPANT;PARTSTAT=ACCEPTED;RSVP=TRUE;CN="Jean Ass
 amoa":https://fixourworld.ca/profile/JeanAssamoa
END:VEVENT
END:VCALENDAR
