BEGIN:VCALENDAR
PRODID:NingEventWidget-v1
VERSION:2.0
METHOD:PUBLISH
BEGIN:VTIMEZONE
TZID:America/Anguilla
X-LIC-LOCATION:America/Anguilla
BEGIN:STANDARD
TZOFFSETFROM:-0400
TZOFFSETTO:-0400
TZNAME:AST
DTSTART:19700101T000000
END:STANDARD
END:VTIMEZONE
BEGIN:VEVENT
UID:2024711:Event:10546
DTSTAMP:20260421T182837Z
SUMMARY:Memorial Service for Dr. Tajudeen Abdul-Raheem
DESCRIPTION:For those of you in NYC and who knew our friend and collea
 gue Taju, please join us this Thursday to celebrate his life. Details 
 below.\n\nbest,\nAnita\n\nSubject: Memorial Service for Dr. Tajudeen A
 bdul-Raheem, Deputy Director, UN Millennium Campaign\n\n\nOn 25 May 20
 09, the world lost a passionate campaigner for the Millennium Developm
 ent Goals and the people of Africa. Dr. Tajudeen Abdul-Raheem, Deputy 
 Director for Africa for the United Nations Millennium Campaign, passed
  away in a fatal car accident in Nairobi. Taju, as he was affectionate
 ly known, was amongst Africa's foremost voices for pan Africanism and 
 social justice, both inside and outside the continent.\n\nThe Millenni
 um Campaign along with its partners are co-hosting a memorial service 
 for Taju. Please join us as we pay tribute to this African hero.\n\nTh
 ank you.\n\nFor more information visit https://fixourworld.ca/events/m
 emorial-service-for-dr
DTSTART;TZID=America/Anguilla:20090603T180000
DTEND;TZID=America/Anguilla:20090603T190000
CATEGORIES:memorial, service
LOCATION:Chapel at the Church Centre
WEBSITE:http://dalita.balassanian@undp.org
URL:http://dalita.balassanian@undp.org
CONTACT:1.212.906.5769
ORGANIZER:Dalita Balassanian
ATTACH;FMTTYPE="image/jpeg":http://storage.ning.com/topology/rest/1.0/
 file/get/2819571568?profile=original
ATTENDEE;ROLE=REQ-PARTICIPANT;PARTSTAT=ACCEPTED;RSVP=TRUE;CN=FixOurWor
 ld:https://fixourworld.ca/profile/Chad
END:VEVENT
END:VCALENDAR
