BEGIN:VCALENDAR
PRODID:NingEventWidget-v1
VERSION:2.0
METHOD:PUBLISH
BEGIN:VTIMEZONE
TZID:America/Anguilla
X-LIC-LOCATION:America/Anguilla
BEGIN:STANDARD
TZOFFSETFROM:-0400
TZOFFSETTO:-0400
TZNAME:AST
DTSTART:19700101T000000
END:STANDARD
END:VTIMEZONE
BEGIN:VEVENT
UID:2024711:Event:50212
DTSTAMP:20260419T111700Z
SUMMARY:MAYAN WOMANâ€™S FIRE CEREMONY NANA ESPERENZA SACRED PIPE CEREM
 ONY / HEALING FAIR
DESCRIPTION:\n\n\n\n\n\nMAYAN WOMANâ€™S FIRE CEREMONY\n\nNANA ESPERENZ
 A\n\nSACREDÂ PIPE CEREMONY / HEALING FAIR\n\nWhen:Â Â MAY 6, 2012\n\nW
 here:Â Oliver M. Smith School\n\nÂ Â Â Â Â Â Â Â Â Â Â Â Â Â 1208 3rdÂ
  Line Rd. Six Nations\n\nÂ Â Â Â Â Â Â Â Â Â Â Â Â Â GPS- six nations 
 #40 1208Â Â 3RDÂ Â line rd.Â BrantÂ Â 5 MINUTES AWAY FROM ANCESTRAL VO
 ICES\n\nTime:Â Â Â Â Â 9:00 A.M -6:00 pm\n\nCost:Â Â Â Â Â Â Suggested
  in kind donation of -$60Â Â Â Â Â Pay one price.\n\nÂ Â Â Â Â Â Â Â Â
  Â Â Â Â Â Â Stay for the day!Â Â No one turned away. Pay what you are
  able.\n\nÂ \n\nThis wonderful afternoon of CONNECTING WITH SPIRIT is 
 a loving way to uplift and cleanse your MIND BODY AND SOUL!\n\nÂ \n\n\
 n\n\n\n\n\n\n\n\n\n\n\n\n\n\n\n\n\n\n\n\n\n\n\nFor more information vi
 sit https://fixourworld.ca/events/mayan-woman-s-fire-ceremony-nana-esp
 erenza-sacred-pipe-ceremony-h
DTSTART;TZID=America/Anguilla:20120506T090000
DTEND;TZID=America/Anguilla:20120506T173000
CATEGORIES:sacred, pipe, "ceremony/healing", fair
LOCATION:Oliver M. Smith School
WEBSITE:http://www.ancestralvoices.ca
URL:http://www.ancestralvoices.ca
CONTACT:289-799-4119
ORGANIZER:LAND OF THE DANCING DEER PRESENT and SISTERS OF THE DANCING 
 DEER PRESENT:
ATTACH;FMTTYPE="image/jpeg":
ATTENDEE;ROLE=REQ-PARTICIPANT;PARTSTAT=ACCEPTED;RSVP=TRUE;CN=FixOurWor
 ld:https://fixourworld.ca/profile/Chad
END:VEVENT
END:VCALENDAR
