BEGIN:VCALENDAR
PRODID:NingEventWidget-v1
VERSION:2.0
METHOD:PUBLISH
BEGIN:VTIMEZONE
TZID:America/Anguilla
X-LIC-LOCATION:America/Anguilla
BEGIN:STANDARD
TZOFFSETFROM:-0400
TZOFFSETTO:-0400
TZNAME:AST
DTSTART:19700101T000000
END:STANDARD
END:VTIMEZONE
BEGIN:VEVENT
UID:2024711:Event:53296
DTSTAMP:20260425T180650Z
SUMMARY:MAYAN FIRE CEREMONY DEC 12, 2012. (12-12-12)
DESCRIPTION:Greetings Everyone:\nForwarded message from Gail Whitlow 
 of Ancestral Voices Healing Centre\n \nThe time of prophecy fast appr
 oaches.\nMAYAN FIRE CEREMONIES:\nDECEMBER 12, 2012  (12-12-12)  END
  OF PRESENT MAYAN CALENDAR.  BEGINNING OF THE NEXT.\nDECEMBER 22, 201
 2  (WINTER EQUINOX)\nCEREMONIES AT LAND OF THE DANCING DEER, \nBEHI
 ND OLIVER M SMITH SCHOOL 1208 3RD LINE RD WEST, SIX NATIONS (WAY BEHIN
 D.  FOLLOW PATH **Please use the map/directions attached because mapq
 uest and googlemaps are not correct)\n8:30 A.M.\nBY DONATION  SUGGEST
 ED DONATION FOR SUPPLIES ETC $20.  CAN BRING WHITE CANDLES FOR OFFERI
 NG.\nNOT CANCELLED FOR WEATHER.  BE PREPARED FOR ANY WEATHER.  DRESS
  ACCORDINGLY.\nALL WELCOME.  BRING YOUR FRIENDS!\nMORE TO COME!\nANCE
 STRAL VOICES HEALING CENTRE\n1721 CHIEFSWOOD RD,  OHSWEKEN ON N0A 1M0
 \n519-9001993  Check out details on website:  www.ancestralvoices.c
 a\n\n\n\n\nShare this invitation and the map/directions. All are welco
 me.\n\n\n\n\nTata Victor wishes to know how many people will be at t
 he 12-12-12 Mayan Fire Ceremony.\n\n\n\n\nTo confirm your attendance, 
 please click on this evite link and \"reply yes\" to the evite invit
 ation.  \nhttp://active.evite.com/app/publicUrl/VGCYQLBOUXGFDDNEOHRW/
 12-12-12...   Remember to use the attached map because googlemap and
  mapquest directions are not correct.   Thank you for confirming your
  attendance.  Remember to bring two white candles to offer at fire
  ceremony.\n \nWe are looking forward to seeing you. \n \nLove and 
 light, Janet Mahony 289-260-0013 (on behalf of Tata Victor and Gail 
 Whitlow)\n\n\n\n\n\n\n\n\n\nFor more information visit https://fixourw
 orld.ca/events/mayan-fire-ceremony
DTSTART;TZID=America/Anguilla:20121212T083000
DTEND;TZID=America/Anguilla:20121212T120000
CATEGORIES:mayan, fire, ceremony
LOCATION:(WAY BEHIND Oliver M Smith School
WEBSITE:http://www.ancestralvoices.ca
URL:http://www.ancestralvoices.ca
CONTACT:289-260-0013  	519-900-1993
ORGANIZER:Tata Victor and Gail Whitlow)
ATTACH;FMTTYPE="image/jpeg":
ATTENDEE;ROLE=REQ-PARTICIPANT;PARTSTAT=ACCEPTED;RSVP=TRUE;CN=FixOurWor
 ld:https://fixourworld.ca/profile/Chad
END:VEVENT
END:VCALENDAR
