BEGIN:VCALENDAR
PRODID:NingEventWidget-v1
VERSION:2.0
METHOD:PUBLISH
BEGIN:VTIMEZONE
TZID:America/Anguilla
X-LIC-LOCATION:America/Anguilla
BEGIN:STANDARD
TZOFFSETFROM:-0400
TZOFFSETTO:-0400
TZNAME:AST
DTSTART:19700101T000000
END:STANDARD
END:VTIMEZONE
BEGIN:VEVENT
UID:2024711:Event:9125
DTSTAMP:20260424T113615Z
SUMMARY:Mass Rally - April 23 - Queen's Park - Don't Foreclose our Fut
 ure!
DESCRIPTION:- April 23 - Queen's Park - Don't Foreclose our Future!\n\
 nGreetings,\n\nWe have a very important demonstration taking place at 
 12:00 noon at Queen's Park, Toronto, on Thursday, April 23 . This is i
 n opposition to the Provincial government's decision to weaken the PBG
 F - Pension Benefit Guaranteed Fund where the McGuinty government has 
 clearly indicated that CAW autoworkers and retirees may be excluded.\n
 \nAttached is a flyer of the mass demonstration. We strongly encourage
  you to find the time to join our members at Queen's Park.\n\nA bus ha
 s been arranged to depart from 205 Placer Court at 11:00 a.m. Please r
 .s.v.p to Ella at ext. 6543 or email ella.amyot@caw.ca to ensure your 
 seat. A boxed lunch will be provided.\n\nThank you for your solidarity
 ,\n\nKen Lewenza\nNational President\nCAW - Canada\n205 Placer Court\n
 Toronto, ON M2H 3H9\n416-495-6555 / 1-800-268-5763 ext. 6555\nfax 416-
 495-3778\nemail: ken.lewenza@caw.ca\n\nFor more information visit http
 s://fixourworld.ca/events/mass-rally-april-23-queens
DTSTART;TZID=America/Anguilla:20090423T120000
DTEND;TZID=America/Anguilla:20090423T190000
CATEGORIES:very, important, demonstration
LOCATION:Queen's Park, Toronto
WEBSITE:http://www.caw.ca
URL:http://www.caw.ca
CONTACT:416-495-6555 / 1-800-268-5763 ext. 6555
ORGANIZER:Ken Lewenza National President CAW - Canada
ATTACH;FMTTYPE="image/jpeg":
ATTENDEE;ROLE=REQ-PARTICIPANT;PARTSTAT=ACCEPTED;RSVP=TRUE;CN=FixOurWor
 ld:https://fixourworld.ca/profile/Chad
END:VEVENT
END:VCALENDAR
