BEGIN:VCALENDAR
PRODID:NingEventWidget-v1
VERSION:2.0
METHOD:PUBLISH
BEGIN:VTIMEZONE
TZID:America/Anguilla
X-LIC-LOCATION:America/Anguilla
BEGIN:STANDARD
TZOFFSETFROM:-0400
TZOFFSETTO:-0400
TZNAME:AST
DTSTART:19700101T000000
END:STANDARD
END:VTIMEZONE
BEGIN:VEVENT
UID:2024711:Event:69287
DTSTAMP:20260421T172658Z
SUMMARY:Marking the International Day for the Elimination Discriminati
 on
DESCRIPTION: \nMarking the International Day for the Elimination Disc
 rimination Community Open Forum - A Tribute to Ferguson \nSaturday, Ma
 rch 21 @ 1pm Hamilton City Hall, Council Chambers, 71 Main St. W. Venu
 e is wheelchair accessible / Refreshments and bus tickets provided\n$5
  suggested donation no one turned away\nAll funds raised go to Ferguso
 n's Millennial Activists United  + Skype presentation by Brittany Ferr
 ell of Ferguson's Millennial Activists United\n+ Speakers from City Co
 uncil, local organizations\n+ Spoken word by Klyde Broox and other per
 formances + Join us! Bring a poem, a song, your thoughts and views as 
 we celebrate the heroic stand being taken in Ferguson and what it mean
 s for the struggle to eliminate racism in Hamilton. Need a ride? Want 
 to get involved? Contact: info@cubacanada.org\nAbout Millennial Activi
 sts United: MAU was formed by three young women in the immediate after
 math of Michael Brown's killing in Ferguson. MAU build grassroots powe
 r and leadership to create strong, sustainable communities. We believe
  Black is beautiful and knowledge is power. We demand accountability f
 or victims of social injustice in Ferguson, across America and the wor
 ld. We are committed to learning strategy and tactics from the generat
 ion before us while simultaneously carving our own millennial voice an
 d style for the unique challenges of a so-called post-racial America. 
 We're an educated, funny, creative, passionate crew putting much of ou
 r regular lives on hold to hunt down justice. We're dope, we're daring
  and we're not going anywhere anytime soon.  Endorsers & Sponsors: Ham
 ilton Friendship Association with Cuba, Hamilton Black History Month C
 ommittee, Afro Canadian Caribbean Association Hamilton, McMaster Human
  Rights & Equity Services, OPIRG McMaster, CUPE 3906 Equity Action Com
 mittee, Hamilton & District Labour Council, Canadian Union of Postal W
 orkers Local 548, United Steelworkers Local 1005, Bryan Prince Booksel
 ler, Matapa, Fix Our World, Hamilton Coalition to Stop the War, Commun
 ity Coalition against Racism, The Hamilton LGBTQ Community Wellness Ce
 ntre (The Well), The Palestinian Association of Hamilton & more! \n\n
 For more information visit https://fixourworld.ca/events/marking-the-i
 nternational-day-for-the-elimination-discrimination
DTSTART;TZID=America/Anguilla:20150321T130000
DTEND;TZID=America/Anguilla:20150321T150000
CATEGORIES:community, open, forum, a, tribute, to, ferguson
LOCATION:Hamilton City Hall, Council Chambers
WEBSITE:
URL:
CONTACT:info@cubacanada.org
ORGANIZER:Hamilton Friendship Association with Cuba
ATTACH;FMTTYPE="image/jpeg":
ATTENDEE;ROLE=REQ-PARTICIPANT;PARTSTAT=ACCEPTED;RSVP=TRUE;CN=FixOurWor
 ld:https://fixourworld.ca/profile/Chad
END:VEVENT
END:VCALENDAR
