BEGIN:VCALENDAR
PRODID:NingEventWidget-v1
VERSION:2.0
METHOD:PUBLISH
BEGIN:VTIMEZONE
TZID:America/Anguilla
X-LIC-LOCATION:America/Anguilla
BEGIN:STANDARD
TZOFFSETFROM:-0400
TZOFFSETTO:-0400
TZNAME:AST
DTSTART:19700101T000000
END:STANDARD
END:VTIMEZONE
BEGIN:VEVENT
UID:2024711:Event:49711
DTSTAMP:20260419T164709Z
SUMMARY:March Break - STORY TIME -
DESCRIPTION:\n\n\n\n\n\n\nBring your kids to join author, Marcela Gran
 t, on March Break who will read excerpts from her children’s book \"
 Luminous Mountain.\" Autographed copies will be available for sale. We
 ar your pajamas!\n\nWednesday Mar 14, 2012\n\n\n\n11:00am until 1:00
 pm\n\n\n\nChapters Scarborough\nKennedy Commons, 20 William Kitchen Rd
 , Scarborough, ON M1P 5B7\n\n\n\n\n\n\n\nFor more information visit h
 ttps://fixourworld.ca/events/march-break-story-time
DTSTART;TZID=America/Anguilla:20120314T110000
DTEND;TZID=America/Anguilla:20120314T130000
CATEGORIES:story, time, by, author, marcela, grant
LOCATION:Chapters Scarborough Kennedy Commons
WEBSITE:https://www.facebook.com/LuminousMountain
URL:https://www.facebook.com/LuminousMountain
CONTACT:
ORGANIZER:Chapters Scarborough
ATTACH;FMTTYPE="image/jpeg":http://storage.ning.com/topology/rest/1.0/
 file/get/2819575131?profile=original
ATTENDEE;ROLE=REQ-PARTICIPANT;PARTSTAT=ACCEPTED;RSVP=TRUE;CN=FixOurWor
 ld:https://fixourworld.ca/profile/Chad
END:VEVENT
END:VCALENDAR
