BEGIN:VCALENDAR
PRODID:NingEventWidget-v1
VERSION:2.0
METHOD:PUBLISH
BEGIN:VTIMEZONE
TZID:America/Anguilla
X-LIC-LOCATION:America/Anguilla
BEGIN:STANDARD
TZOFFSETFROM:-0400
TZOFFSETTO:-0400
TZNAME:AST
DTSTART:19700101T000000
END:STANDARD
END:VTIMEZONE
BEGIN:VEVENT
UID:2024711:Event:13747
DTSTAMP:20260420T202410Z
SUMMARY:MAPLE STIX MEETING
DESCRIPTION:MAPLE STIX IS MEETING AT SECOND CUP IN WESTDALE ON FRIDAY,
  SEPTEMBER 25TH, 2009, AT 1PM. COME OUT AND LEARN TO KNIT OR HELP US \
 "KNIT 50\" BY NOVEMBER.\n\nFor more information visit https://fixourwo
 rld.ca/events/maple-stix-meeting
DTSTART;TZID=America/Anguilla:20090916T180000
DTEND;TZID=America/Anguilla:20090916T190000
CATEGORIES:knitting, circle
LOCATION:SECOND CUP IN WESTDALE
WEBSITE:http://www.fixourworld.ning.com/maplestix
URL:http://www.fixourworld.ning.com/maplestix
CONTACT:9055738078
ORGANIZER;CN=Cat:https://fixourworld.ca/profile/Cat
ATTACH;FMTTYPE="image/jpeg":
ATTENDEE;ROLE=REQ-PARTICIPANT;PARTSTAT=ACCEPTED;RSVP=TRUE;CN=Cat:https
 ://fixourworld.ca/profile/Cat
END:VEVENT
END:VCALENDAR
