BEGIN:VCALENDAR
PRODID:NingEventWidget-v1
VERSION:2.0
METHOD:PUBLISH
BEGIN:VTIMEZONE
TZID:America/Anguilla
X-LIC-LOCATION:America/Anguilla
BEGIN:STANDARD
TZOFFSETFROM:-0400
TZOFFSETTO:-0400
TZNAME:AST
DTSTART:19700101T000000
END:STANDARD
END:VTIMEZONE
BEGIN:VEVENT
UID:2024711:Event:12724
DTSTAMP:20260420T190657Z
SUMMARY:MAPLE STIX AT FIX OUR WORLD
DESCRIPTION:MAPLE STIX, HAMILTON'S CRAFT CIRCLE, WILL BE ONSITE AT THE
  FIX OUR WORLD FESTIVAL SATURDAY, SEPTEMBER 5TH. THE KNITTING CIRCLE W
 ILL BE HELD AT 2PM.\n\nKNITTING TUTORIALS AND DEMONSTRATIONS WILL BE A
 VAILABLE. WE'LL BE THERE ENCOURAGING NEW AND EXPERIENCED KNITTERS TO C
 ONTRIBUTE TO OUR GOAL OF KNITTING 50 HATS, PAIRS OF MITTS, AND PAIRS O
 F SOCKS FOR CHARITY BY THIS NOVEMBER\n\nNEW KNITTERS CAN CONTRIBUTE KN
 ITTED SQUARES TO OUR BLANKETS, WHICH WILL BE DONATED TO CHARITY OR GIV
 EN TO AN ORGANIZATION AS PART OF A NEW-MOM BASKET.\n\nWE'RE ALSO TAKIN
 G DONATIONS OF YARN! LOTS OF YARN! :D\n\nFor more information visit ht
 tps://fixourworld.ca/events/maple-stix-at-fix-our-world
DTSTART;TZID=America/Anguilla:20090905T000000
DTEND;TZID=America/Anguilla:20090905T235900
CATEGORIES:charitable
LOCATION:Pier 4 Park
WEBSITE:
URL:
CONTACT:905 573 8078
ORGANIZER;CN=Cat:https://fixourworld.ca/profile/Cat
ATTACH;FMTTYPE="image/jpeg":http://storage.ning.com/topology/rest/1.0/
 file/get/2819571713?profile=original
ATTENDEE;ROLE=REQ-PARTICIPANT;PARTSTAT=ACCEPTED;RSVP=TRUE;CN=Cat:https
 ://fixourworld.ca/profile/Cat
END:VEVENT
END:VCALENDAR
