BEGIN:VCALENDAR
PRODID:NingEventWidget-v1
VERSION:2.0
METHOD:PUBLISH
BEGIN:VTIMEZONE
TZID:America/Anguilla
X-LIC-LOCATION:America/Anguilla
BEGIN:STANDARD
TZOFFSETFROM:-0400
TZOFFSETTO:-0400
TZNAME:AST
DTSTART:19700101T000000
END:STANDARD
END:VTIMEZONE
BEGIN:VEVENT
UID:2024711:Event:10442
DTSTAMP:20260422T004041Z
SUMMARY:Journey for Jobs Campain Celebration
DESCRIPTION:Journey for Jobs Campaign Celebration\n\"Because the unemp
 loyed in your community and all across Ontario deserve justice!\"\n\nh
 dlcp@cogeco.net\n\nCome out and join your community in an effort to ch
 ange the future of employment in Ontario!\nThe event will feature gues
 t speakers and information tables from various community groups and or
 ganizations.\nFREE BBQ!\nAnd musical performances by\nTomi Swick,\nHar
 rison Kennedy,\nSteve Sinnicks,\nand Anne Feeney.\nCelebrate the Journ
 ey for Jobs Drive to Work Caravan in Hamilton!\n\nFor more information
  visit https://fixourworld.ca/events/journey-for-jobs-campain
DTSTART;TZID=America/Anguilla:20090624T040000
DTEND;TZID=America/Anguilla:20090625T210000
CATEGORIES:massive, caravan, from, kenora, ending, in, "toronto!"
LOCATION:Confederation Park
WEBSITE:http://www.facebook.com/inbox/readmessage.php?t=1013898244670#
 /group.php?gid=85841656711
URL:http://www.facebook.com/inbox/readmessage.php?t=1013898244670#/gro
 up.php?gid=85841656711
CONTACT:Paul Mason 905.730.4829      905.966.2750
ORGANIZER:Ontario Federation Of Labour
ATTACH;FMTTYPE="image/jpeg":http://storage.ning.com/topology/rest/1.0/
 file/get/2819571464?profile=original
ATTENDEE;ROLE=REQ-PARTICIPANT;PARTSTAT=ACCEPTED;RSVP=TRUE;CN="Robert H
 arrington":https://fixourworld.ca/profile/RobertHarrington
ATTENDEE;ROLE=REQ-PARTICIPANT;PARTSTAT=ACCEPTED;RSVP=TRUE;CN=FixOurWor
 ld:https://fixourworld.ca/profile/Chad
ATTENDEE;ROLE=REQ-PARTICIPANT;PARTSTAT=ACCEPTED;RSVP=TRUE;CN="jeremy b
 oyd":https://fixourworld.ca/profile/jeremyboyd
END:VEVENT
END:VCALENDAR
