BEGIN:VCALENDAR
PRODID:NingEventWidget-v1
VERSION:2.0
METHOD:PUBLISH
BEGIN:VTIMEZONE
TZID:America/Anguilla
X-LIC-LOCATION:America/Anguilla
BEGIN:STANDARD
TZOFFSETFROM:-0400
TZOFFSETTO:-0400
TZNAME:AST
DTSTART:19700101T000000
END:STANDARD
END:VTIMEZONE
BEGIN:VEVENT
UID:2024711:Event:31426
DTSTAMP:20260425T144607Z
SUMMARY:Japan Benefit Concert
DESCRIPTION:Nippon Disaster Fundraiser Concert\nwww.japanhamilton.webs
 .com\n\nDoors Open at 5:00 p.m. music at 6 p.m.\n...Benefit Concert fo
 r Earthquake and Tsunami in Japan\nHOSTED BY The Hamilton Spectator Fu
 nnyman Jeff Mahoney\nRAFFLES | 50/50 Draws and more!\nTickets: $10.00\
 n\nEntertainment\n\nAndre & the J-Tones\nSteve Parton Band\nJacob Moon
 \nAlfie Smith\nNicole Christian\nShiori Kobayashi and Krista Rhodes\nR
 osetta Strings\nHeather Janssen\nPeter Banting Swingtet\nSteeltown Sym
 phony Brass Quintet\n\nDonated to: Japanese Red Cross Society-Emergenc
 y Relief\nhttp://www.jrc.or.jp/english/relief/l4/Vcms4_00002063.html\n
 All the fund received under this account will be transferred to the Di
 stribution Committee, which is formed around the local governments of 
 the disaster-affected prefectures and to administer the distribution o
 f fund.\n\nMore information to come! www.japanhamilton.webs.com\nStill
  looking for more Donations and Sponsors! Please email us at japanhami
 lton@gmail.com\n\nDonations go to:\nJapanese Red Cross Society\n\nFor 
 more information visit https://fixourworld.ca/events/japan-benefit-con
 cert
DTSTART;TZID=America/Anguilla:20110403T180000
DTEND;TZID=America/Anguilla:20110403T220000
CATEGORIES:fundraiser
LOCATION:St. Paul's Church
WEBSITE:http://www.japanhamilton.webs.com
URL:http://www.japanhamilton.webs.com
CONTACT:
ORGANIZER:Shiori Kobayashi, Andre & the J-Tones, Steve Parton, Rosetta
  Strings,
ATTACH;FMTTYPE="image/jpeg":http://storage.ning.com/topology/rest/1.0/
 file/get/2819572475?profile=original
ATTENDEE;ROLE=REQ-PARTICIPANT;PARTSTAT=ACCEPTED;RSVP=TRUE;CN=FixOurWor
 ld:https://fixourworld.ca/profile/Chad
ATTENDEE;ROLE=REQ-PARTICIPANT;PARTSTAT=ACCEPTED;RSVP=TRUE;CN="Andre & 
 the J-Tones":https://fixourworld.ca/profile/AndretheJTones
END:VEVENT
END:VCALENDAR
