BEGIN:VCALENDAR
PRODID:NingEventWidget-v1
VERSION:2.0
METHOD:PUBLISH
BEGIN:VTIMEZONE
TZID:America/Anguilla
X-LIC-LOCATION:America/Anguilla
BEGIN:STANDARD
TZOFFSETFROM:-0400
TZOFFSETTO:-0400
TZNAME:AST
DTSTART:19700101T000000
END:STANDARD
END:VTIMEZONE
BEGIN:VEVENT
UID:2024711:Event:70348
DTSTAMP:20260421T200924Z
SUMMARY:International Day of Yoga
DESCRIPTION: \nPlease join us to celebrate International Day of Yoga 
 on June 21, 2015.  Contact Divine Light Hamilton for further details 
 of this free event.905-545-9178\n \nYoga is the holistic approach to 
 health and well-being.  It harmonizes the mind and body, thought and 
 action, philosophy and reality.\n \nThis event is open to everyone - 
 from the experienced to those who have never tried yoga.  Come for th
 e experience and discover the oneness with yourself and with nature.\n
  \nRegards,  Divine Light Center 905-545-9178 http://www.divinelight.
 com/\n\nFor more information visit https://fixourworld.ca/events/inter
 national-day-of-yoga
DTSTART;TZID=America/Anguilla:20150621T104500
DTEND;TZID=America/Anguilla:20150621T120000
CATEGORIES:free, yoga
LOCATION:Divine Light Centre
WEBSITE:
URL:
CONTACT:905 545 9178
ORGANIZER:Divine Light Centre Hamilton
ATTACH;FMTTYPE="image/jpeg":http://storage.ning.com/topology/rest/1.0/
 file/get/2819576047?profile=original
ATTENDEE;ROLE=REQ-PARTICIPANT;PARTSTAT=ACCEPTED;RSVP=TRUE;CN=FixOurWor
 ld:https://fixourworld.ca/profile/Chad
END:VEVENT
END:VCALENDAR
