BEGIN:VCALENDAR
PRODID:NingEventWidget-v1
VERSION:2.0
METHOD:PUBLISH
BEGIN:VTIMEZONE
TZID:America/Anguilla
X-LIC-LOCATION:America/Anguilla
BEGIN:STANDARD
TZOFFSETFROM:-0400
TZOFFSETTO:-0400
TZNAME:AST
DTSTART:19700101T000000
END:STANDARD
END:VTIMEZONE
BEGIN:VEVENT
UID:2024711:Event:69038
DTSTAMP:20260421T203958Z
SUMMARY:International Day for the Elimination of Racial Discrimination
 ,
DESCRIPTION:\n\nInternational Day for the Elimination of Racial Discri
 mination, HFAC and community partners is hosting a Community Open Foru
 m in tribute to Ferguson. The Forum will raise funds for Ferguson orga
 nizations, and will be held with the support of Council Mathew Green's
  office at Hamilton City Hall Council Chamber, at 1pm on Saturday, Mar
 ch 21.\n\nFor more information visit https://fixourworld.ca/events/int
 ernational-day-for-the-elimination-of-racial-discrimination
DTSTART;TZID=America/Anguilla:20150321T130000
DTEND;TZID=America/Anguilla:20150321T160000
CATEGORIES:community, open, forum
LOCATION:Hamilton City Hall Council Chambe
WEBSITE:
URL:
CONTACT:
ORGANIZER:HFAC
ATTACH;FMTTYPE="image/jpeg":
ATTENDEE;ROLE=REQ-PARTICIPANT;PARTSTAT=ACCEPTED;RSVP=TRUE;CN=FixOurWor
 ld:https://fixourworld.ca/profile/Chad
END:VEVENT
END:VCALENDAR
