BEGIN:VCALENDAR
PRODID:NingEventWidget-v1
VERSION:2.0
METHOD:PUBLISH
BEGIN:VTIMEZONE
TZID:America/Anguilla
X-LIC-LOCATION:America/Anguilla
BEGIN:STANDARD
TZOFFSETFROM:-0400
TZOFFSETTO:-0400
TZNAME:AST
DTSTART:19700101T000000
END:STANDARD
END:VTIMEZONE
BEGIN:VEVENT
UID:2024711:Event:49735
DTSTAMP:20260421T182948Z
SUMMARY:International AIDS Candlelight Memorial 2012
DESCRIPTION:International AIDS Candlelight Memorial 2012: Promoting He
 alth and Dignity Together\n“Promoting Health and Dignity Together”
  is the theme of the International AIDS Candlelight Memorial 2012. The
  theme aims to raise awareness around HIV and to promote respect for t
 he human rights of people living with HIV. The memorial will take plac
 e on Sunday 20 May 2012.\nThe theme “Promoting Health and Dignity To
 gether” is inspired by the Positive Health, Dignity and Prevention 
 framework which is a people-centered and human rights based approach 
 to the HIV response.\nJoin tens of thousands of people worldwide and p
 articipate in the International AIDS Candlelight Memorial. Want to org
 anize a Candlelight Memorial yourself? Visit the website at www.candl
 elightmemorial.org for practical information and to register. \nRegi
 stration has now opened for the International AIDS Candlelight Memoria
 l. On the website you will also be able to download the poster for the
  2012 Memorial.\nThe website of the International AIDS Candlelight Mem
 orial has a new feel with many useful resources. The site now includes
  a map showing all the places in the world where the International AID
 S Candlelight Memorial will be held this year. In addition, the site c
 an now be viewed in different languages through a translate function. 
 The registration form is available in English, French and Spanish.\nNo
 w also on facebook! facebook.com/CandlelightMemorial\nThe 29th Intern
 ational AIDS Candlelight Memorial is hosted by the Global Network of P
 eople living with HIV (GNP+).\n\nFor more information visit https://fi
 xourworld.ca/events/international-aids-candlelight-memorial-2012
DTSTART;TZID=America/Anguilla:20120520T190000
DTEND;TZID=America/Anguilla:20120520T220000
CATEGORIES:aids, candlelight, memorial
LOCATION:TBA
WEBSITE:http://www.candlelightmemorial.org/resources/item/76-poster-in
 ternational-aids-candlelight-memorial-2012
URL:http://www.candlelightmemorial.org/resources/item/76-poster-intern
 ational-aids-candlelight-memorial-2012
CONTACT:905.518.1308
ORGANIZER;CN=FixOurWorld:https://fixourworld.ca/profile/Chad
ATTACH;FMTTYPE="image/jpeg":http://storage.ning.com/topology/rest/1.0/
 file/get/2819574540?profile=original
ATTENDEE;ROLE=REQ-PARTICIPANT;PARTSTAT=ACCEPTED;RSVP=TRUE;CN=FixOurWor
 ld:https://fixourworld.ca/profile/Chad
END:VEVENT
END:VCALENDAR
