BEGIN:VCALENDAR
PRODID:NingEventWidget-v1
VERSION:2.0
METHOD:PUBLISH
BEGIN:VTIMEZONE
TZID:America/Anguilla
X-LIC-LOCATION:America/Anguilla
BEGIN:STANDARD
TZOFFSETFROM:-0400
TZOFFSETTO:-0400
TZNAME:AST
DTSTART:19700101T000000
END:STANDARD
END:VTIMEZONE
BEGIN:VEVENT
UID:2024711:Event:53394
DTSTAMP:20260425T165357Z
SUMMARY:Imagine Peace The Music of John Lennon Videos/Photos
DESCRIPTION: Celebrate the life of John Lennon with this awarded annua
 l tribute at James Street Baptist Church (96 James St. S.) where some 
 of the city’s top musicians ...See More\n\nImagine Peace - The Musi
 c of John LennonToday at 8:00pm\n\n\n\n\n\n\nFor more information vi
 sit https://fixourworld.ca/events/imagine-peace-the-music-of-john-lenn
 on
DTSTART;TZID=America/Anguilla:20121209T193000
DTEND;TZID=America/Anguilla:20121231T230000
CATEGORIES:concert
LOCATION:James Street Baptist Church
WEBSITE:
URL:
CONTACT:
ORGANIZER:Christopher Clause
ATTACH;FMTTYPE="image/jpeg":
ATTENDEE;ROLE=REQ-PARTICIPANT;PARTSTAT=ACCEPTED;RSVP=TRUE;CN=FixOurWor
 ld:https://fixourworld.ca/profile/Chad
END:VEVENT
END:VCALENDAR
