BEGIN:VCALENDAR
PRODID:NingEventWidget-v1
VERSION:2.0
METHOD:PUBLISH
BEGIN:VTIMEZONE
TZID:America/Anguilla
X-LIC-LOCATION:America/Anguilla
BEGIN:STANDARD
TZOFFSETFROM:-0400
TZOFFSETTO:-0400
TZNAME:AST
DTSTART:19700101T000000
END:STANDARD
END:VTIMEZONE
BEGIN:VEVENT
UID:2024711:Event:68083
DTSTAMP:20260424T045455Z
SUMMARY:Hope and Support for Vallary Halladay
DESCRIPTION:Your Donations are Needed for Vallary Halladay  Sept 20 
 2014 at the Grimsby Legion we will gather with friends and family and 
 all who are moved to support. My niece Vallary Halladay suffered a bro
 ken neck July 20th, 2014. We will have LIVE music and BBQ and PRIZES.
 THANK YOU ALL WHO HAVE SENT MESSAGES OF SUPPORT LOVE AND PRAYERS … e
 very word and action helps the healing process. Much love and respect 
 from myself and my family. Please invite everyone and anyone who may k
 now Val . …. Blake Halladay\n\n\nFor more information visit https://
 fixourworld.ca/events/hope-and-support-for-vallary-halladay
DTSTART;TZID=America/Anguilla:20140920T000000
DTEND;TZID=America/Anguilla:20140920T235900
CATEGORIES:support, for, vallary, halladay
LOCATION:Grimsby Legion
WEBSITE:https://www.bing.com/maps/default.aspx?v=2&pc=FACEBK&mid=8100&
 rtp=adr.~pos.43.1970911951_-79.5605691288_Grimsby+Legion_233+Elizabeth
 +Street%2C+Grimsby%2C+Ontario+L3M+3K5&cp=43.1970911951~-79.5605691288&
 lvl=16&sty=r&rtop=0~0~0~&mode=D&FORM=FBKPL1&mkt=en-US
URL:https://www.bing.com/maps/default.aspx?v=2&pc=FACEBK&mid=8100&rtp=
 adr.~pos.43.1970911951_-79.5605691288_Grimsby+Legion_233+Elizabeth+Str
 eet%2C+Grimsby%2C+Ontario+L3M+3K5&cp=43.1970911951~-79.5605691288&lvl=
 16&sty=r&rtop=0~0~0~&mode=D&FORM=FBKPL1&mkt=en-US
CONTACT:(905) 945-8421
ORGANIZER:Blake Halladay
ATTACH;FMTTYPE="image/jpeg":http://storage.ning.com/topology/rest/1.0/
 file/get/2819577154?profile=original
ATTENDEE;ROLE=REQ-PARTICIPANT;PARTSTAT=ACCEPTED;RSVP=TRUE;CN=FixOurWor
 ld:https://fixourworld.ca/profile/Chad
END:VEVENT
END:VCALENDAR
