BEGIN:VCALENDAR
PRODID:NingEventWidget-v1
VERSION:2.0
METHOD:PUBLISH
BEGIN:VTIMEZONE
TZID:America/Anguilla
X-LIC-LOCATION:America/Anguilla
BEGIN:STANDARD
TZOFFSETFROM:-0400
TZOFFSETTO:-0400
TZNAME:AST
DTSTART:19700101T000000
END:STANDARD
END:VTIMEZONE
BEGIN:VEVENT
UID:2024711:Event:53545
DTSTAMP:20260425T201617Z
SUMMARY:holiday open house,
DESCRIPTION:\n\n\nHamilton Friendship Association with Cuba\n\n\n\n\n\
 n\n\n\n\n\n\n\n\n\n\n\n\n\nDear members and friends,\n Just a quick no
 te to remind you that the HFAC would like to welcome you to our holid
 ay open house, this Saturday December 15 from 3-5pm at the Artword Ar
 tbar, 15 Colbourne St.  \nWe hope you will join us for some light re
 freshments and informal discussion of ongoing events in Cuba.  As we
 ll, the executive and the Community Committee will announce the HFAC'
 s exciting program for Black History Month, 2013.\nThe event is free, 
 but donations to the Canadian Network on Cuba's Hurricane Sandy relie
 f fund will be accepted.  There will also be a cash bar.  We are hap
 py to let you know that gritLIT, Hamilton’s Literary Festival, will
  be at the Artbar Friday and Saturday, for their second annual Holida
 y Book and Gift Sale.  We hope our guests will take the time during 
 the open house to visit the sale.  \nGritLit does much to promote ne
 w and emerging authors in the city and the country.  We look forward t
 o seeing you this weekend and wish you a safe and happy new year!  HF
 AC executive\n\n\n\nFor more information visit https://fixourworld.ca/
 events/holiday-open-house
DTSTART;TZID=America/Anguilla:20121215T150000
DTEND;TZID=America/Anguilla:20121215T170000
CATEGORIES:open, house
LOCATION:Artword Artbar
WEBSITE:
URL:
CONTACT:
ORGANIZER:HFAC Exectutive
ATTACH;FMTTYPE="image/jpeg":
ATTENDEE;ROLE=REQ-PARTICIPANT;PARTSTAT=ACCEPTED;RSVP=TRUE;CN=FixOurWor
 ld:https://fixourworld.ca/profile/Chad
END:VEVENT
END:VCALENDAR
