BEGIN:VCALENDAR
PRODID:NingEventWidget-v1
VERSION:2.0
METHOD:PUBLISH
BEGIN:VTIMEZONE
TZID:America/Anguilla
X-LIC-LOCATION:America/Anguilla
BEGIN:STANDARD
TZOFFSETFROM:-0400
TZOFFSETTO:-0400
TZNAME:AST
DTSTART:19700101T000000
END:STANDARD
END:VTIMEZONE
BEGIN:VEVENT
UID:2024711:Event:24567
DTSTAMP:20260419T134539Z
SUMMARY:Help stop Obstruction of Justice in Hamilton
DESCRIPTION:Come on Down September 3, 2010. to the Sopinka Court House
  located at 45 main st. E court room 100 and bear witness to the Obstr
 uction of Justice by some employees working at the court house.\nTopic
  of the day failure to follow rule of law as well as complete indiffer
 ence to the Courts Of Justice Act, and other actions that will leave y
 ou in a state of shock and awe.\n\nFor further information feel free t
 o read the blog post entered on August 23, 2010.\n\nFor more informati
 on visit https://fixourworld.ca/events/help-stop-obstruction-of
DTSTART;TZID=America/Anguilla:20100903T090000
DTEND;TZID=America/Anguilla:20100903T120000
CATEGORIES:equal, rights, action
LOCATION:45 Main Street East Court Room 100 at the Sopinka Court House
WEBSITE:
URL:
CONTACT:
ORGANIZER;CN="Edward Teach":https://fixourworld.ca/profile/EdwardTeach
ATTACH;FMTTYPE="image/jpeg":
ATTENDEE;ROLE=REQ-PARTICIPANT;PARTSTAT=ACCEPTED;RSVP=TRUE;CN="Edward T
 each":https://fixourworld.ca/profile/EdwardTeach
END:VEVENT
END:VCALENDAR
