BEGIN:VCALENDAR
PRODID:NingEventWidget-v1
VERSION:2.0
METHOD:PUBLISH
BEGIN:VTIMEZONE
TZID:America/Anguilla
X-LIC-LOCATION:America/Anguilla
BEGIN:STANDARD
TZOFFSETFROM:-0400
TZOFFSETTO:-0400
TZNAME:AST
DTSTART:19700101T000000
END:STANDARD
END:VTIMEZONE
BEGIN:VEVENT
UID:2024711:Event:149171
DTSTAMP:20260421T051941Z
SUMMARY:Fix Our World Help Portrait 2023 Hamilton
DESCRIPTION: Â \r\nOUR HOST FACILITYÂ \r\nBrunoâ€™s School of Hair Des
 ign-Celebrating 70 years our Host FacilityÂ https://brunoschools.com/Â
  \r\nOur Incredibly talented Professional Photographers:\r\n* Casey Ha
 ughland- is a lifestyle and wedding photographer https://instagram.com
 /haughlandmedia?igshid=MTk0NTkyODZkYg==\r\nÂ *Ranjit Singh is a fine a
 rt portrait photographer Promax Portrait Photography. https://instagra
 m.com/promax_photo?igshid=MTk0NTkyODZkYg==Â \r\n\r\nOur Graphic Design
 er:Â \r\n* HMB Graphics has Volunteered their talents for Fix Our Worl
 d since 2009!Â hilb22@gmail.com Â 647-501-2651\r\n\r\n* Delicious Food
 Â provided by Sadaka Initiative\r\nOur Portrait Printing Sponsor:Â \r\
 n* Henryâ€™s Camera at Limeridge Mall https://www.henrys.com/stores/li
 me-ridge\n\nFor more information visit https://fixourworld.ca/events/h
 elp-portrait-hamilton-2023
DTSTART;TZID=America/Anguilla:20231205T093000
DTEND;TZID=America/Anguilla:20231205T170000
CATEGORIES:pay-it-forward, portraits
LOCATION:Brunoâ€™s School of Hair Design
WEBSITE:
URL:
CONTACT:
ORGANIZER;CN=FixOurWorld:https://fixourworld.ca/profile/Chad
ATTACH;FMTTYPE="image/jpeg":https://storage.ning.com/topology/rest/1.0
 /file/get/12307036882?profile=original
ATTENDEE;ROLE=REQ-PARTICIPANT;PARTSTAT=ACCEPTED;RSVP=TRUE;CN=FixOurWor
 ld:https://fixourworld.ca/profile/Chad
END:VEVENT
END:VCALENDAR
