BEGIN:VCALENDAR
PRODID:NingEventWidget-v1
VERSION:2.0
METHOD:PUBLISH
BEGIN:VTIMEZONE
TZID:America/Anguilla
X-LIC-LOCATION:America/Anguilla
BEGIN:STANDARD
TZOFFSETFROM:-0400
TZOFFSETTO:-0400
TZNAME:AST
DTSTART:19700101T000000
END:STANDARD
END:VTIMEZONE
BEGIN:VEVENT
UID:2024711:Event:10802
DTSTAMP:20260421T200745Z
SUMMARY:Hamilton Health Coalition Bus Rally to Windsor Strike
DESCRIPTION:There are two events posted please come to both.\n\n1st Ev
 ent\nWindsor Strike\n\nWe are leaving from Toys R US at 8am but please
  be there at 7:45am On Friday June 12-09\n\nAnd there will be donuts a
 nd muffins\n\nAnd coffee and juice and hot chocolate\n\nFor the drive 
 there\n\nThanks Nancy\n\n2nd Event\nJune 22, 2009\nI just wanted to le
 t you know that we are going to be facing City Council on Monday June 
 22nd at 9:30am at the Convention Centre, I know it is thru the week, b
 ut I am asking as many of you who can come to please come, this will b
 e important, if we have more people there with the show of community s
 upport then that will send a strong message, we haven’t done anythin
 g for a while I hope to see everyone there.\n\n\nWhen we first started
  the Hamilton Health Coalition up again this is what everyone was aski
 ng for, so I am expecting to see everyone there. This will be exciting
 \n\n\n\nThanks for your support\n\nNancy Phillips\n\nHamilton Health C
 oalition\n\n905-385-1933\n\nFor more information visit https://fixourw
 orld.ca/events/hamilton-health-coalition-bus
DTSTART;TZID=America/Anguilla:20090612T074500
DTEND;TZID=America/Anguilla:20090612T170000
CATEGORIES:bus, trip, to, windsor
LOCATION:Toys R Us Parking Lot
WEBSITE:http://nphillips4@quickclic.net
URL:http://nphillips4@quickclic.net
CONTACT:905-385-1933
ORGANIZER:Hamilton Health Coalition
ATTACH;FMTTYPE="image/jpeg":http://storage.ning.com/topology/rest/1.0/
 file/get/2819571526?profile=original
ATTENDEE;ROLE=REQ-PARTICIPANT;PARTSTAT=ACCEPTED;RSVP=TRUE;CN=FixOurWor
 ld:https://fixourworld.ca/profile/Chad
END:VEVENT
END:VCALENDAR
