BEGIN:VCALENDAR
PRODID:NingEventWidget-v1
VERSION:2.0
METHOD:PUBLISH
BEGIN:VTIMEZONE
TZID:America/Anguilla
X-LIC-LOCATION:America/Anguilla
BEGIN:STANDARD
TZOFFSETFROM:-0400
TZOFFSETTO:-0400
TZNAME:AST
DTSTART:19700101T000000
END:STANDARD
END:VTIMEZONE
BEGIN:VEVENT
UID:2024711:Event:48795
DTSTAMP:20260419T180025Z
SUMMARY:Hamilton Friendship Association with Cuba to Hold General Asse
 mbly & Public Program “Cuba: Continuity & Change”
DESCRIPTION:Hamilton Friendship Association with Cuba presents:\nCuba:
  Continuity and Change\nSATURDAY, MARCH 10, 2012Workers Arts and Herit
 age (51 Stuart St.)\n \nGeneral Assembly: 12noon\nPublic Program: 2:3
 0pm-5pm Public Program Features:\nCuban Consul General in Toronto\nJo
 rge Soberon Luis\nProfessor Isaac Saney, Dalhousie University\non Rece
 nt Economic Update in CubaRefreshments Provided. Bus Tickets/ Transpor
 tation Available Upon Request.$10 Suggested Donation (Sliding Scale - 
 No One Turned Away).\nContact: info@cubacanada.org\n \nJoin us in we
 lcoming Jorge Soberon, the Cuban Consul General in Toronto back to Ham
 ilton.  The Consul will open the public program with brief remarks on
  the importance of friendship and cooperation between the Cuban and Ca
 nadian peoples.\n \nFollowing the Consul’s address, the ever popula
 r and informative Professor Isaac Saney of Dalhousie University will d
 iscuss the theme of “Cuba: Continuity & Change”. His lecture will 
 provide information about the much-publicized, ongoing economic update
  in Cuba. This exciting program is an opportunity for all those intere
 sted in Cuba to come together to learn more about the country and stre
 ngthen the traditional ties of friendship between our two peoples.\nPa
 rticipate in the General Assembly\nThe Hamilton Friendship Association
  with Cuba will be holdings its General Assembly (GA) at noon, before 
 the public program. The GA is open to all those who support our mandat
 e of building people to people exchange and friendship while upholding
  Cuba's right to sovereignty. For more information, please email us at
 info@cubacanada.org.\n \nJoin Us! Everyone is welcome!\n \nEndorsing
  Organizations: Bryan Prince Bookstores, Fix our World, Hamilton-Hait
 i Action Committee, Hamilton Students for Social Justice, Hamilton & D
 istrict Labour Council, McMaster CFMU's Programa Latino Americano, McM
 aster Organization of Latin American Students, OPIRG McMaster, Ontario
  Secondary School Teachers Federation PAC, Pueblo Unido Hamilton FMLN,
  Students Resisting War and Occupation and USW Local 1005, among other
 s.\n\n\n\nFor more information visit https://fixourworld.ca/events/ham
 ilton-friendship-association-with-cuba-to-hold-general-assembl
DTSTART;TZID=America/Anguilla:20120310T100000
DTEND;TZID=America/Anguilla:20120310T160000
CATEGORIES:general, "assembly:&", public, "program:"
LOCATION:Workers Arts and Heritage,
WEBSITE:http://info@cubacanada.org
URL:http://info@cubacanada.org
CONTACT:
ORGANIZER:Hamilton Friendship Association with Cuba
ATTACH;FMTTYPE="image/jpeg":
ATTENDEE;ROLE=REQ-PARTICIPANT;PARTSTAT=ACCEPTED;RSVP=TRUE;CN=FixOurWor
 ld:https://fixourworld.ca/profile/Chad
END:VEVENT
END:VCALENDAR
