BEGIN:VCALENDAR
PRODID:NingEventWidget-v1
VERSION:2.0
METHOD:PUBLISH
BEGIN:VTIMEZONE
TZID:America/Anguilla
X-LIC-LOCATION:America/Anguilla
BEGIN:STANDARD
TZOFFSETFROM:-0400
TZOFFSETTO:-0400
TZNAME:AST
DTSTART:19700101T000000
END:STANDARD
END:VTIMEZONE
BEGIN:VEVENT
UID:2024711:Event:69052
DTSTAMP:20260424T130000Z
SUMMARY:Hamilton film premiere of \"The Village Under the Forest\"
DESCRIPTION:The award-winning, new, documentary film, “The Village U
 nder the Forest” is the sensitive story of a South African Jewish wo
 man who, as a child, collected coins for the Jewish National Fund, onl
 y to discover, when she grew up, that she had helped create South Afri
 ca Park in Israel, a forest planted to cover up the ethnic cleansing o
 f the Palestinian village of Lubya during the Nakba of 1948.\n\nFor mo
 re information visit https://fixourworld.ca/events/hamilton-film-premi
 ere-of-the-village-under-the-forest
DTSTART;TZID=America/Anguilla:20150205T180000
DTEND;TZID=America/Anguilla:20150205T200000
CATEGORIES:film, showing
LOCATION:McMaster Hospital, Ewart Angus Centre, Room HSC 1A6
WEBSITE:http://www.hamiltoncoalitiontostopthewar.ca
URL:http://www.hamiltoncoalitiontostopthewar.ca
CONTACT:905-383-7693
ORGANIZER;CN="Ken Stone":https://fixourworld.ca/profile/KennethEverett
 Stone
ATTACH;FMTTYPE="image/jpeg":
ATTENDEE;ROLE=REQ-PARTICIPANT;PARTSTAT=ACCEPTED;RSVP=TRUE;CN="Ken Ston
 e":https://fixourworld.ca/profile/KennethEverettStone
END:VEVENT
END:VCALENDAR
