BEGIN:VCALENDAR
PRODID:NingEventWidget-v1
VERSION:2.0
METHOD:PUBLISH
BEGIN:VTIMEZONE
TZID:America/Anguilla
X-LIC-LOCATION:America/Anguilla
BEGIN:STANDARD
TZOFFSETFROM:-0400
TZOFFSETTO:-0400
TZNAME:AST
DTSTART:19700101T000000
END:STANDARD
END:VTIMEZONE
BEGIN:VEVENT
UID:2024711:Event:9476
DTSTAMP:20260422T020600Z
SUMMARY:Hamilton CarShare at the Mayday Street Festival
DESCRIPTION:Hamilton CarShare Co-op will be in attendance to give info
 rmation to the public on the new CarShare in our community\ncome and v
 isit us for more info. and/or to sign up as a member\n\nFor more infor
 mation visit https://fixourworld.ca/events/hamilton-carshare-at-the
DTSTART;TZID=America/Anguilla:20090502T000000
DTEND;TZID=America/Anguilla:20090502T235900
CATEGORIES:meet, and, greet
LOCATION:The Sky Dragon
WEBSITE:
URL:
CONTACT:
ORGANIZER:Hamilton Car Share committee
ATTACH;FMTTYPE="image/jpeg":
ATTENDEE;ROLE=REQ-PARTICIPANT;PARTSTAT=ACCEPTED;RSVP=TRUE;CN=Valerie:h
 ttps://fixourworld.ca/profile/Valerie
END:VEVENT
END:VCALENDAR
